Workbook

Sheet U9
B1: Jméno | C1: Ročník | D1: Oddíl | E1: Trenér | F1: D | G1: E | H1: pen | I1: prostná | J1: D | K1: E | L1: pen | M1: kůň | N1: D | O1: E | P1: pen | Q1: kruhy | R1: D | S1: E | T1: pen | U1: přeskok | V1: D | W1: E | X1: pen | Y1: bradla | Z1: D | AA1: E | AB1: pen | AC1: hrazda | AD1: Celkem
A2: 24 | B2: Dohnalík Antonín | C2: 2017 | D2: KSG SK Přerov | E2: manželé Dohnalíkovi | F2: 4.5 | G2: 6.8 | H2: 0 | I2: 11.3 | J2: 4.5 | K2: 7.8 | L2: 0 | M2: 12.3 | N2: 5.5 | O2: 8.4 | P2: 0 | Q2: 13.9 | R2: 2 | S2: 7.7 | T2: 0 | U2: 9.7 | V2: 5 | W2: 8.6 | X2: 0 | Y2: 13.6 | Z2: 0 | AA2: 0 | AB2: 0 | AC2: 0 | AD2: 60.8
A3: 22 | B3: Gleb Anisimov | C3: 2019 | D3: KSG Rosice | E3: Kolektiv | F3: 4.5 | G3: 7.5 | H3: 0 | I3: 12 | J3: 5 | K3: 8.1 | L3: 0 | M3: 13.1 | N3: 5.5 | O3: 8 | P3: 0 | Q3: 13.5 | R3: 1.5 | S3: 8.8 | T3: 0 | U3: 10.3 | V3: 5 | W3: 7.5 | X3: 0 | Y3: 12.5 | Z3: 0 | AA3: 0 | AB3: 0 | AC3: 0 | AD3: 61.4
A4: 17 | B4: Jech Filip | C4: 2017 | D4: KSG Moravská Slavia Brno | E4: Toman | F4: 5 | G4: 7.3 | H4: 0 | I4: 12.3 | J4: 5 | K4: 8.6 | L4: 0 | M4: 13.6 | N4: 5 | O4: 8.5 | P4: 0 | Q4: 13.5 | R4: 2 | S4: 7.9 | T4: 0 | U4: 9.9 | V4: 4.5 | W4: 8.9 | X4: 0 | Y4: 13.4 | Z4: 0 | AA4: 0 | AB4: 0 | AC4: 0 | AD4: 62.7
A5: 21 | B5: Kalina Štěpán | C5: 2019 | D5: SGC Ostrava | E5: Hrabánková | F5: 5.5 | G5: 6.8 | H5: 0 | I5: 12.3 | J5: 5 | K5: 8.25 | L5: 0 | M5: 13.25 | N5: 5 | O5: 8.8 | P5: 0 | Q5: 13.8 | R5: 1.5 | S5: 8.3 | T5: 0 | U5: 9.8 | V5: 4.5 | W5: 8.1 | X5: 0 | Y5: 12.6 | Z5: 0 | AA5: 0 | AB5: 0 | AC5: 0 | AD5: 61.75
A6: 18 | B6: Korec Sebastian | C6: 2019 | D6: Gymnastika Zlín | E6: Lutonský | F6: 5 | G6: 7 | H6: 0 | I6: 12 | J6: 5 | K6: 9.2 | L6: 0 | M6: 14.2 | N6: 5 | O6: 8.4 | P6: 0 | Q6: 13.4 | R6: 2 | S6: 8 | T6: 0 | U6: 10 | V6: 5 | W6: 7.7 | X6: 0 | Y6: 12.7 | Z6: 0 | AA6: 0 | AB6: 0 | AC6: 0 | AD6: 62.3
A7: 23 | B7: Lehár Adam | C7: 2017 | D7: KSG SK Přerov | E7: manželé Dohnalíkovi | F7: 5 | G7: 7.5 | H7: 0 | I7: 12.5 | J7: 4.5 | K7: 8.55 | L7: 0 | M7: 13.05 | N7: 4.5 | O7: 8.2 | P7: 0 | Q7: 12.7 | R7: 1.75 | S7: 7.6 | T7: 0 | U7: 9.35 | V7: 5 | W7: 8.3 | X7: 0 | Y7: 13.3 | Z7: 0 | AA7: 0 | AB7: 0 | AC7: 0 | AD7: 60.9
A8: 7 | B8: Löffler Július | C8: 2017 | D8: Gymnastika Zlín | E8: Vyoral David | F8: 5.5 | G8: 8.5 | H8: 0 | I8: 14 | J8: 5 | K8: 9.35 | L8: 0 | M8: 14.35 | N8: 5 | O8: 8 | P8: 0 | Q8: 13 | R8: 3 | S8: 8.6 | T8: 0 | U8: 11.6 | V8: 5 | W8: 8.9 | X8: 0 | Y8: 13.9 | Z8: 0 | AA8: 0 | AB8: 0 | AC8: 0 | AD8: 66.85
A9: 6 | B9: Lutonský Lukáš | C9: 2017 | D9: Gymnastika Zlín | E9: Vyoral David | F9: 5 | G9: 7.75 | H9: 0 | I9: 12.75 | J9: 6.5 | K9: 8.65 | L9: 0 | M9: 15.15 | N9: 5 | O9: 8.7 | P9: 0 | Q9: 13.7 | R9: 3 | S9: 8.2 | T9: 0 | U9: 11.2 | V9: 5.5 | W9: 9 | X9: 0 | Y9: 14.5 | Z9: 0 | AA9: 0 | AB9: 0 | AC9: 0 | AD9: 67.3
A10: 2 | B10: Mádl Alex | C10: 2018 | D10: KSG Moravská Slavia Brno | E10: Toman | F10: 6.5 | G10: 8 | H10: 0 | I10: 14.5 | J10: 5 | K10: 9.3 | L10: 0 | M10: 14.3 | N10: 5.5 | O10: 8.9 | P10: 0 | Q10: 14.4 | R10: 2 | S10: 8.7 | T10: 0 | U10: 10.7 | V10: 5.5 | W10: 8.7 | X10: 0 | Y10: 14.2 | Z10: 0 | AA10: 0 | AB10: 0 | AC10: 0 | AD10: 68.1
A11: 8 | B11: Malena Ferdinand | C11: 2018 | D11: KSG Moravská Slavia Brno | E11: Toman | F11: 5.5 | G11: 7.9 | H11: 0 | I11: 13.4 | J11: 5 | K11: 9 | L11: 0 | M11: 14 | N11: 6 | O11: 8.4 | P11: 0 | Q11: 14.4 | R11: 2 | S11: 8.7 | T11: 0 | U11: 10.7 | V11: 5 | W11: 8.8 | X11: 0 | Y11: 13.8 | Z11: 0 | AA11: 0 | AB11: 0 | AC11: 0 | AD11: 66.3
A12: 29 | B12: Nagy Félix | C12: 2019 | D12: T.J. Sokol Bučovice | E12: kolektiv | F12: 4 | G12: 5.4 | H12: 0 | I12: 9.4 | J12: 5 | K12: 5.2 | L12: 0 | M12: 10.2 | N12: 5.5 | O12: 6.8 | P12: 0 | Q12: 12.3 | R12: 1.5 | S12: 6.5 | T12: 0 | U12: 8 | V12: 4.5 | W12: 7.4 | X12: 0 | Y12: 11.9 | Z12: 0 | AA12: 0 | AB12: 0 | AC12: 0 | AD12: 51.8
A13: 4 | B13: Otáhal Jáchym | C13: 2018 | D13: T.J. Sokol Zlín | E13: Pavel Daněk | F13: 5.5 | G13: 7.7 | H13: 0 | I13: 13.2 | J13: 5.5 | K13: 9.05 | L13: 0 | M13: 14.55 | N13: 6 | O13: 9.1 | P13: 0 | Q13: 15.1 | R13: 2 | S13: 8.3 | T13: 0 | U13: 10.3 | V13: 5 | W13: 9.2 | X13: 0 | Y13: 14.2 | Z13: 0 | AA13: 0 | AB13: 0 | AC13: 0 | AD13: 67.35
... A30: 1 | B30: Zelík Mathias | C30: 2018 | D30: Gymnastika Zlín | E30: Vyoral David | F30: 5 | G30: 8.6 | H30: 0 | I30: 13.6 | J30: 6.5 | K30: 9.35 | L30: 0 | M30: 15.85 | N30: 6 | O30: 9.4 | P30: 0 | Q30: 15.4 | R30: 2 | S30: 8.6 | T30: 0 | U30: 10.6 | V30: 5.5 | W30: 9.4 | X30: 0 | Y30: 14.9 | Z30: 0 | AA30: 0 | AB30: 0 | AC30: 0 | AD30: 70.35

Sheet U11
B1: Jméno | C1: Ročník | D1: Oddíl | E1: Trenér | F1: D | G1: E | H1: pen | I1: prostná | J1: D | K1: E | L1: pen | M1: kůň | N1: D | O1: E | P1: pen | Q1: kruhy | R1: D | S1: E | T1: pen | U1: přeskok | V1: D | W1: E | X1: pen | Y1: bradla | Z1: D | AA1: E | AB1: pen | AC1: hrazda | AD1: Celkem
A2: 7 | B2: Bednařík Jonáš | C2: 2016 | D2: T.J. Sokol Zlín | E2: Pavel Daněk | F2: 2.4 | G2: 6.2 | H2: 0 | I2: 8.6 | J2: 1.2 | K2: 8.95 | L2: 1.5 | M2: 8.65 | N2: 0.9 | O2: 8.5 | P2: 1 | Q2: 8.4 | R2: 1.2 | S2: 8.8 | T2: 0 | U2: 10 | V2: 1.8 | W2: 8.7 | X2: 1 | Y2: 9.5 | Z2: 0 | AA2: 0 | AB2: 0 | AC2: 0 | AD2: 45.15
A3: 10 | B3: Bosák Maxim | C3: 2016 | D3: T.J. Sokol Šternberk | E3: Kryl Zbyněk | F3: 1.4 | G3: 6.6 | H3: 0.5 | I3: 7.5 | J3: 1.2 | K3: 7.5 | L3: 1.5 | M3: 7.2 | N3: 1.2 | O3: 8.7 | P3: 1 | Q3: 8.9 | R3: 1.2 | S3: 9.1 | T3: 0 | U3: 10.3 | V3: 1.8 | W3: 8.6 | X3: 1 | Y3: 9.4 | Z3: 0 | AA3: 0 | AB3: 0 | AC3: 0 | AD3: 43.3
A4: 19 | B4: Dresler Pavel | C4: 2015 | D4: SGC Ostrava | E4: Faltýnková | F4: 1.3 | G4: 7.6 | H4: 1 | I4: 7.9 | J4: 0.6 | K4: 6.1 | L4: 3 | M4: 3.7 | N4: 0.9 | O4: 8 | P4: 1 | Q4: 7.9 | R4: 1.2 | S4: 7.2 | T4: 0 | U4: 8.4 | V4: 1.2 | W4: 7.2 | X4: 1.5 | Y4: 6.9 | Z4: 0 | AA4: 0 | AB4: 0 | AC4: 0 | AD4: 34.8
A5: 4 | B5: Flášar Tobiáš | C5: 2016 | D5: T.J. Sokol Šternberk | E5: Kryl Zbyněk | F5: 2.1 | G5: 8.5 | H5: 0 | I5: 10.6 | J5: 1.2 | K5: 7.4 | L5: 1.5 | M5: 7.1 | N5: 1.4 | O5: 8.7 | P5: 0 | Q5: 10.1 | R5: 1.2 | S5: 8.6 | T5: 0 | U5: 9.8 | V5: 2.4 | W5: 8.9 | X5: 0.5 | Y5: 10.8 | Z5: 0 | AA5: 0 | AB5: 0 | AC5: 0 | AD5: 48.4
A6: 9 | B6: Florinskij Nikolaj | C6: 2016 | D6: SK UP Olomouc | E6: Buben | F6: 2 | G6: 7.8 | H6: 0 | I6: 9.8 | J6: 1.2 | K6: 8.35 | L6: 1.5 | M6: 8.05 | N6: 0.8 | O6: 8 | P6: 1.5 | Q6: 7.3 | R6: 1.2 | S6: 8.8 | T6: 0 | U6: 10 | V6: 1.2 | W6: 9.1 | X6: 1.5 | Y6: 8.8 | Z6: 0 | AA6: 0 | AB6: 0 | AC6: 0 | AD6: 43.95
A7: 20 | B7: Girschek Martin | C7: 2016 | D7: SK UP Olomouc | E7: Zapletal Zapletalová | F7: 1.4 | G7: 7 | H7: 0.5 | I7: 7.9 | J7: 0.6 | K7: 7.4 | L7: 3.5 | M7: 4.5 | N7: 0 | O7: 7.2 | P7: 3 | Q7: 4.2 | R7: 1.2 | S7: 7.8 | T7: 0 | U7: 9 | V7: 0.6 | W7: 8.2 | X7: 4 | Y7: 4.8 | Z7: 0 | AA7: 0 | AB7: 0 | AC7: 0 | AD7: 30.4
A8: 12 | B8: Hakl Michael | C8: 2016 | D8: KSG Rosice | E8: Kolektiv | F8: 2.1 | G8: 8 | H8: 0 | I8: 10.1 | J8: 1.2 | K8: 7.3 | L8: 1.5 | M8: 7 | N8: 0.9 | O8: 8.1 | P8: 1 | Q8: 8 | R8: 1.2 | S8: 7.8 | T8: 0 | U8: 9 | V8: 1.2 | W8: 7.6 | X8: 1.5 | Y8: 7.3 | Z8: 0 | AA8: 0 | AB8: 0 | AC8: 0 | AD8: 41.4
A9: 11 | B9: Halfar Tobiáš | C9: 2016 | D9: KSG Moravská Slavia Brno | E9: Toman | F9: 1.5 | G9: 7.8 | H9: 0 | I9: 9.3 | J9: 1.2 | K9: 8.05 | L9: 1.5 | M9: 7.75 | N9: 0.8 | O9: 8.3 | P9: 1.5 | Q9: 7.6 | R9: 1.2 | S9: 8.2 | T9: 0 | U9: 9.4 | V9: 1.2 | W9: 8.9 | X9: 1.5 | Y9: 8.6 | Z9: 0 | AA9: 0 | AB9: 0 | AC9: 0 | AD9: 42.65
A10: 2 | B10: Janda Adam | C10: 2015 | D10: SGC Ostrava | E10: Faltýnková. Pospíšilová | F10: 2 | G10: 8.4 | H10: 0 | I10: 10.4 | J10: 1.2 | K10: 9.2 | L10: 1.5 | M10: 8.9 | N10: 1.4 | O10: 8.6 | P10: 0 | Q10: 10 | R10: 1.2 | S10: 8.8 | T10: 0 | U10: 10 | V10: 2.6 | W10: 8.5 | X10: 0 | Y10: 11.1 | Z10: 0 | AA10: 0 | AB10: 0 | AC10: 0 | AD10: 50.4
A11: 15 | B11: Jurášek Florián | C11: 2016 | D11: SGC Ostrava | E11: Faltýnková | F11: 1.8 | G11: 8.8 | H11: 1 | I11: 9.6 | J11: 0.6 | K11: 8.7 | L11: 4 | M11: 5.3 | N11: 0.8 | O11: 8.7 | P11: 1.5 | Q11: 8 | R11: 1.2 | S11: 7.6 | T11: 0 | U11: 8.8 | V11: 1.2 | W11: 8.7 | X11: 1.5 | Y11: 8.4 | Z11: 0 | AA11: 0 | AB11: 0 | AC11: 0 | AD11: 40.1
A12: 6 | B12: Kos Matyáš | C12: 2015 | D12: T.J. Sokol Bučovice | E12: Vejmola | F12: 2.4 | G12: 7.6 | H12: 0 | I12: 10 | J12: 1.2 | K12: 7.6 | L12: 1.5 | M12: 7.3 | N12: 1.3 | O12: 8.2 | P12: 0.5 | Q12: 9 | R12: 1.2 | S12: 8.7 | T12: 0 | U12: 9.9 | V12: 2.1 | W12: 8.2 | X12: 0 | Y12: 10.3 | Z12: 0 | AA12: 0 | AB12: 0 | AC12: 0 | AD12: 46.5
A13: 8 | B13: Kraus Adam | C13: 2015 | D13: KSG Rosice | E13: Kolektiv | F13: 1.9 | G13: 7.9 | H13: 0.5 | I13: 9.3 | J13: 1.2 | K13: 8.55 | L13: 1.5 | M13: 8.25 | N13: 1.1 | O13: 8.5 | P13: 1 | Q13: 8.6 | R13: 1.2 | S13: 8 | T13: 0 | U13: 9.2 | V13: 1.8 | W13: 8.6 | X13: 1 | Y13: 9.4 | Z13: 0 | AA13: 0 | AB13: 0 | AC13: 0 | AD13: 44.75
... A21: 17 | B21: Vyhnálek Josef | C21: 2016 | D21: SK UP Olomouc | E21: Buben | F21: 1.3 | G21: 7.6 | H21: 1 | I21: 7.9 | J21: 0.6 | K21: 7.15 | L21: 3.5 | M21: 4.25 | N21: 0.8 | O21: 7.8 | P21: 1.5 | Q21: 7.1 | R21: 1.2 | S21: 7.7 | T21: 0 | U21: 8.9 | V21: 1.2 | W21: 9 | X21: 2.5 | Y21: 7.7 | Z21: 0 | AA21: 0 | AB21: 0 | AC21: 0 | AD21: 35.85

Sheet U13
B1: Jméno | C1: Ročník | D1: Oddíl | E1: Trenér | F1: D | G1: E | H1: pen | I1: prostná | J1: D | K1: E | L1: pen | M1: kůň | N1: D | O1: E | P1: pen | Q1: kruhy | R1: D | S1: E | T1: pen | U1: přeskok | V1: D | W1: E | X1: pen | Y1: bradla | Z1: D | AA1: E | AB1: pen | AC1: hrazda | AD1: Celkem
A2: 3 | B2: Černý Vít | C2: 2014 | D2: T.J. Sokol Zlín | E2: Pavel Daněk | F2: 1.4 | G2: 8.3 | H2: 1 | I2: 8.7 | J2: 0.6 | K2: 8.8 | L2: 2 | M2: 7.4 | N2: 0.9 | O2: 8.4 | P2: 1.8 | Q2: 7.5 | R2: 1.2 | S2: 9 | T2: 0 | U2: 10.2 | V2: 1.4 | W2: 8.8 | X2: 1.5 | Y2: 8.7 | Z2: 0 | AA2: 0 | AB2: 0 | AC2: 0 | AD2: 42.5
A3: 4 | B3: Hájek Benjamin | C3: 2013 | D3: KSG Moravská Slavia Brno | E3: Kostka a kol. | F3: 2.1 | G3: 8.2 | H3: 0.5 | I3: 9.8 | J3: 0.4 | K3: 8.6 | L3: 5 | M3: 4 | N3: 1.4 | O3: 8.1 | P3: 0.8 | Q3: 8.7 | R3: 1.2 | S3: 8.4 | T3: 0 | U3: 9.6 | V3: 1.8 | W3: 7.6 | X3: 0 | Y3: 9.4 | Z3: 0 | AA3: 0 | AB3: 0 | AC3: 0 | AD3: 41.5
A4: 1 | B4: Kořenek Karel | C4: 2014 | D4: T.J. Sokol Šternberk | E4: Kryl Zbyněk | F4: 2.2 | G4: 8 | H4: 0 | I4: 10.2 | J4: 1.3 | K4: 7.45 | L4: 0.5 | M4: 8.25 | N4: 1.4 | O4: 8.8 | P4: 0.8 | Q4: 9.4 | R4: 1.2 | S4: 8.7 | T4: 0 | U4: 9.9 | V4: 1.6 | W4: 9.1 | X4: 1 | Y4: 9.7 | Z4: 0 | AA4: 0 | AB4: 0 | AC4: 0 | AD4: 47.45
A5: 5 | B5: Košťál Teodor | C5: 2014 | D5: SGC Ostrava | E5: Faltýnková | F5: 2 | G5: 7.5 | H5: 0.5 | I5: 9 | J5: 0.6 | K5: 7.75 | L5: 2 | M5: 6.35 | N5: 0.8 | O5: 8.4 | P5: 2.8 | Q5: 6.4 | R5: 1.2 | S5: 7.8 | T5: 0 | U5: 9 | V5: 1 | W5: 8.6 | X5: 1.5 | Y5: 8.1 | Z5: 0 | AA5: 0 | AB5: 0 | AC5: 0 | AD5: 38.85
A6: 2 | B6: Krumplovič Jan | C6: 2014 | D6: SGC Ostrava | E6: Faltýnková | F6: 2.1 | G6: 6.4 | H6: 0 | I6: 8.5 | J6: 0.6 | K6: 8.4 | L6: 2 | M6: 7 | N6: 1.6 | O6: 7.8 | P6: 0.3 | Q6: 9.1 | R6: 1.2 | S6: 8.1 | T6: 0 | U6: 9.3 | V6: 1.9 | W6: 8.5 | X6: 0 | Y6: 10.4 | Z6: 0 | AA6: 0 | AB6: 0 | AC6: 0 | AD6: 44.3

Sheet U15
B1: Jméno | C1: Ročník | D1: Oddíl | E1: Trenér | F1: D | G1: E | H1: pen | I1: prostná | J1: D | K1: E | L1: pen | M1: kůň | N1: D | O1: E | P1: pen | Q1: kruhy | R1: D | S1: E | T1: pen | U1: přeskok | V1: D | W1: E | X1: pen | Y1: bradla | Z1: D | AA1: E | AB1: pen | AC1: hrazda | AD1: Celkem
A2: 4 | B2: Eliášek Jakub | C2: 2011 | D2: KSG Moravská Slavia Brno | E2: Kostka a kol. | F2: 2.3 | G2: 7.6 | H2: 0.3 | I2: 9.6 | J2: 1 | K2: 7.95 | L2: 6 | M2: 2.95 | N2: 1.6 | O2: 8.4 | P2: 0.3 | Q2: 9.7 | R2: 1.2 | S2: 9 | T2: 0 | U2: 10.2 | V2: 1.8 | W2: 8.7 | X2: 0 | Y2: 10.5 | Z2: 0 | AA2: 0 | AB2: 0 | AC2: 0 | AD2: 42.95
A3: 6 | B3: Helia Leo | C3: 2012 | D3: KSG Moravská Slavia Brno | E3: Kostka a kol. | F3: 1.6 | G3: 6.4 | H3: 1.3 | I3: 6.7 | J3: 1.1 | K3: 7 | L3: 5 | M3: 3.1 | N3: 1.6 | O3: 6.9 | P3: 3 | Q3: 5.5 | R3: 1.2 | S3: 7.6 | T3: 0 | U3: 8.8 | V3: 1.7 | W3: 8.4 | X3: 3 | Y3: 7.1 | Z3: 0 | AA3: 0 | AB3: 0 | AC3: 0 | AD3: 31.2
A4: 5 | B4: Konečný Lukáš | C4: 2012 | D4: KSG Moravská Slavia Brno | E4: Kostka a kol. | F4: 1.6 | G4: 6.5 | H4: 1.3 | I4: 6.8 | J4: 0.7 | K4: 8 | L4: 6 | M4: 2.7 | N4: 1.6 | O4: 7.5 | P4: 0.3 | Q4: 8.8 | R4: 1.2 | S4: 7 | T4: 0 | U4: 8.2 | V4: 1.5 | W4: 8.2 | X4: 4 | Y4: 5.7 | Z4: 0 | AA4: 0 | AB4: 0 | AC4: 0 | AD4: 32.2
A5: 3 | B5: Pospíšil Jan | C5: 2011 | D5: KSG Moravská Slavia Brno | E5: Fried Václav | F5: 2.5 | G5: 7.1 | H5: 0.3 | I5: 9.3 | J5: 1.1 | K5: 8 | L5: 5 | M5: 4.1 | N5: 2.2 | O5: 7.7 | P5: 0.3 | Q5: 9.6 | R5: 1.8 | S5: 8.4 | T5: 0 | U5: 10.2 | V5: 1.9 | W5: 8.7 | X5: 0 | Y5: 10.6 | Z5: 0 | AA5: 0 | AB5: 0 | AC5: 0 | AD5: 43.8
A6: 2 | B6: Slezák Martin | C6: 2012 | D6: Gymnastika Zlín | E6: Jurij Bezručko | F6: 2.7 | G6: 7.8 | H6: 0.3 | I6: 10.2 | J6: 1.9 | K6: 7.8 | L6: 0 | M6: 9.7 | N6: 1.9 | O6: 9.1 | P6: 0.3 | Q6: 10.7 | R6: 1.8 | S6: 8.8 | T6: 0 | U6: 10.6 | V6: 2 | W6: 8.9 | X6: 0 | Y6: 10.9 | Z6: 0 | AA6: 0 | AB6: 0 | AC6: 0 | AD6: 52.1
A7: 1 | B7: Šimr Richard | C7: 2011 | D7: Gymnastika Zlín | E7: David Vyoral | F7: 2.6 | G7: 7.2 | H7: 0.3 | I7: 9.5 | J7: 1.8 | K7: 8.7 | L7: 0 | M7: 10.5 | N7: 2.3 | O7: 9 | P7: 0.3 | Q7: 11 | R7: 2 | S7: 9.2 | T7: 0 | U7: 11.2 | V7: 2.2 | W7: 9 | X7: 0 | Y7: 11.2 | Z7: 0 | AA7: 0 | AB7: 0 | AC7: 0 | AD7: 53.4

Sheet U18B
B1: Jméno | C1: Ročník | D1: Oddíl | E1: Trenér | F1: D | G1: E | H1: pen | I1: prostná | J1: D | K1: E | L1: pen | M1: kůň | N1: D | O1: E | P1: pen | Q1: kruhy | R1: D | S1: E | T1: pen | U1: přeskok | V1: D | W1: E | X1: pen | Y1: bradla | Z1: D | AA1: E | AB1: pen | AC1: hrazda | AD1: Celkem
A2: 1 | B2: Kalovský Vladimír | C2: 2010 | D2: KSG Moravská Slavia Brno | E2: Fried Václav | F2: 2.8 | G2: 8 | H2: 0 | I2: 10.8 | J2: 2 | K2: 8.4 | L2: 0 | M2: 10.4 | N2: 2.4 | O2: 8.5 | P2: 0.3 | Q2: 10.6 | R2: 2 | S2: 8.8 | T2: 0 | U2: 10.8 | V2: 2.7 | W2: 9.4 | X2: 0 | Y2: 12.1 | Z2: 0 | AA2: 0 | AB2: 0 | AC2: 0 | AD2: 54.7
A3: 2 | B3: Kořenek Antonín | C3: 2009 | D3: T.J. Sokol Šternberk | E3: Kryl Zbyněk | F3: 2.5 | G3: 7 | H3: 0.3 | I3: 9.2 | J3: 1.9 | K3: 7.95 | L3: 0 | M3: 9.85 | N3: 2.1 | O3: 8.8 | P3: 0.3 | Q3: 10.6 | R3: 2 | S3: 8 | T3: 0 | U3: 10 | V3: 2 | W3: 8.7 | X3: 0 | Y3: 10.7 | Z3: 0 | AA3: 0 | AB3: 0 | AC3: 0 | AD3: 50.35
A4: 5 | B4: Polák Vít | C4: 2010 | D4: SK UP Olomouc | E4: Buben | F4: 2.4 | G4: 7.6 | H4: 0.3 | I4: 9.7 | J4: 1.9 | K4: 5.3 | L4: 0 | M4: 7.2 | N4: 1.6 | O4: 8.2 | P4: 0.3 | Q4: 9.5 | R4: 1.8 | S4: 8.2 | T4: 0 | U4: 10 | V4: 1.8 | W4: 6.6 | X4: 3 | Y4: 5.4 | Z4: 0 | AA4: 0 | AB4: 0 | AC4: 0 | AD4: 41.8
A5: 3 | B5: Slezák David | C5: 2010 | D5: Gymnastika Zlín | E5: Jurij Bezručko | F5: 2.6 | G5: 7 | H5: 0.3 | I5: 9.3 | J5: 1.9 | K5: 7 | L5: 0 | M5: 8.9 | N5: 2.3 | O5: 8.1 | P5: 0.3 | Q5: 10.1 | R5: 1.8 | S5: 7.8 | T5: 0 | U5: 9.6 | V5: 2.1 | W5: 9 | X5: 0 | Y5: 11.1 | Z5: 0 | AA5: 0 | AB5: 0 | AC5: 0 | AD5: 49
A6: 4 | B6: Vykopal Matouš | C6: 2010 | D6: SK UP Olomouc | E6: Buben | F6: 2.6 | G6: 7.5 | H6: 0.3 | I6: 9.8 | J6: 2 | K6: 6 | L6: 0 | M6: 8 | N6: 1.6 | O6: 8.4 | P6: 0.3 | Q6: 9.7 | R6: 1.2 | S6: 9 | T6: 0 | U6: 10.2 | V6: 1.9 | W6: 7.6 | X6: 0 | Y6: 9.5 | Z6: 0 | AA6: 0 | AB6: 0 | AC6: 0 | AD6: 47.2

Sheet 15732_U9
D1: Moravská liga 2026 CELKEM
D2: 3.10.2026
D3: U9
AF5: 2.kolo | AJ5: 1.kolo
A6: pořadí | B6: ev. č. | C6: č. oddilu | D6: jméno | E6: ročnik | F6: oddíl | G6: trenér | H6: D | I6: E | J6: pen | K6: prostná | L6: D | M6: E | N6: pen | O6: kůň | P6: D | Q6: E | R6: pen | S6: kruhy | T6: D | U6: E | V6: pen | W6: přeskok | X6: D | Y6: E | Z6: pen | AA6: bradla | AB6: D | AC6: E | AD6: pen | AE6: hrazda | AF6: celkem | AG6: pozn | AH6: přihlášeno po uzávěrce | AI6: lékařská prohlídka | AJ6: 1.kolo | AL6: Celkem
A7: 1 | B7: 190491 | C7: 9512 | D7: Zelík Mathias | E7: 2018 | F7: Gymnastika Zlín | G7: Vyoral David | H7: 6.5 | I7: 9.1 | J7: 0 | K7: 15.6 | L7: 0 | M7: 0 | N7: 0 | O7: 0 | P7: 6.5 | Q7: 8.8 | R7: 0 | S7: 15.3 | T7: 11.15 | U7: 0 | V7: 0 | W7: 11.15 | X7: 15.7 | Y7: 0 | Z7: 0 | AA7: 15.7 | AB7: 6.5 | AC7: 8.9 | AD7: 0 | AE7: 15.4 | AF7: 73.15 | AH7: 30.9.2026 20:46 | AJ7: =IFERROR(VLOOKUP(D7,'U9'!B:AD,29,FALSE),0) -> 70.35 | AK7: =IFERROR(VLOOKUP(D7,'U9'!B:AD,1,FALSE),"-") -> Zelík Mathias | AL7: =AF7+AJ7 -> 143.5
A8: 2 | B8: 983218 | C8: 7949 | D8: Mádl Alex | E8: 2018 | F8: KSG Moravská Slavia Brno | G8: Toman | H8: 6.5 | I8: 8.8 | J8: 0 | K8: 15.3 | L8: 0 | M8: 0 | N8: 0 | O8: 0 | P8: 6.5 | Q8: 9 | R8: 0 | S8: 15.5 | T8: 12.1 | U8: 0 | V8: 0 | W8: 12.1 | X8: 13.2 | Y8: 0 | Z8: 0 | AA8: 13.2 | AB8: 6.5 | AC8: 7.8 | AD8: 0 | AE8: 14.3 | AF8: 70.4 | AH8: 30.9.2026 18:36 | AJ8: =IFERROR(VLOOKUP(D8,'U9'!B:AD,29,FALSE),0) -> 68.1 | AK8: =IFERROR(VLOOKUP(D8,'U9'!B:AD,1,FALSE),"-") -> Mádl Alex | AL8: =AF8+AJ8 -> 138.5
A9: 3 | B9: 774859 | C9: 9512 | D9: Vychopeň Tomáš | E9: 2017 | F9: Gymnastika Zlín | G9: Vyoral David | H9: 5.5 | I9: 8.6 | J9: 0 | K9: 14.1 | L9: 0 | M9: 0 | N9: 0 | O9: 0 | P9: 6 | Q9: 9 | R9: 0 | S9: 15 | T9: 11.3 | U9: 0 | V9: 0 | W9: 11.3 | X9: 15.6 | Y9: 0 | Z9: 0 | AA9: 15.6 | AB9: 6 | AC9: 8.2 | AD9: 0 | AE9: 14.2 | AF9: 70.2 | AH9: 30.9.2026 20:46 | AJ9: =IFERROR(VLOOKUP(D9,'U9'!B:AD,29,FALSE),0) -> 67.35 | AK9: =IFERROR(VLOOKUP(D9,'U9'!B:AD,1,FALSE),"-") -> Vychopeň Tomáš | AL9: =AF9+AJ9 -> 137.55
A10: 4 | B10: 200748 | C10: 2975 | D10: Podhajský Martin | E10: 2017 | F10: T.J. Sokol Zlín | G10: Pavel Daněk | H10: 5.5 | I10: 9 | J10: 0 | K10: 14.5 | L10: 0 | M10: 0 | N10: 0 | O10: 0 | P10: 6.5 | Q10: 8.3 | R10: 0 | S10: 14.8 | T10: 11.15 | U10: 0 | V10: 0 | W10: 11.15 | X10: 14.4 | Y10: 0 | Z10: 0 | AA10: 14.4 | AB10: 6.5 | AC10: 8.35 | AD10: 0 | AE10: 14.85 | AF10: 69.7 | AJ10: =IFERROR(VLOOKUP(D10,'U9'!B:AD,29,FALSE),0) -> 67.6 | AK10: =IFERROR(VLOOKUP(D10,'U9'!B:AD,1,FALSE),"-") -> Podhajský Martin | AL10: =AF10+AJ10 -> 137.3
A11: 5 | B11: 440541 | C11: 2975 | D11: Otáhal Jáchym | E11: 2018 | F11: T.J. Sokol Zlín | G11: Pavel Daněk | H11: 5.5 | I11: 9.3 | J11: 0 | K11: 14.8 | L11: 0 | M11: 0 | N11: 0 | O11: 0 | P11: 6.5 | Q11: 9 | R11: 0 | S11: 15.5 | T11: 10.9 | U11: 0 | V11: 0 | W11: 10.9 | X11: 13.5 | Y11: 0 | Z11: 0 | AA11: 13.5 | AB11: 6.5 | AC11: 8.6 | AD11: 0 | AE11: 15.1 | AF11: 69.8 | AJ11: =IFERROR(VLOOKUP(D11,'U9'!B:AD,29,FALSE),0) -> 67.35 | AK11: =IFERROR(VLOOKUP(D11,'U9'!B:AD,1,FALSE),"-") -> Otáhal Jáchym | AL11: =AF11+AJ11 -> 137.15
A12: 6 | B12: 799381 | C12: 7949 | D12: Malena Ferdinand | E12: 2018 | F12: KSG Moravská Slavia Brno | G12: Toman | H12: 5.5 | I12: 9 | J12: 0 | K12: 14.5 | L12: 0 | M12: 0 | N12: 0 | O12: 0 | P12: 6.5 | Q12: 8.2 | R12: 0 | S12: 14.7 | T12: 11.2 | U12: 0 | V12: 0 | W12: 11.2 | X12: 14 | Y12: 0 | Z12: 0 | AA12: 14 | AB12: 6.5 | AC12: 7.95 | AD12: 0 | AE12: 14.45 | AF12: 68.85 | AH12: 30.9.2026 18:36 | AJ12: =IFERROR(VLOOKUP(D12,'U9'!B:AD,29,FALSE),0) -> 66.3 | AK12: =IFERROR(VLOOKUP(D12,'U9'!B:AD,1,FALSE),"-") -> Malena Ferdinand | AL12: =AF12+AJ12 -> 135.15
A13: 7 | B13: 369558 | C13: 2040 | D13: Vrublovský Lukáš | E13: 2018 | F13: T.J. Sokol Šternberk | G13: Kryl Zbyněk | H13: 4.5 | I13: 9.1 | J13: 0 | K13: 13.6 | L13: 0 | M13: 0 | N13: 0 | O13: 0 | P13: 6.5 | Q13: 9 | R13: 0 | S13: 15.5 | T13: 10.6 | U13: 0 | V13: 0 | W13: 10.6 | X13: 14.1 | Y13: 0 | Z13: 0 | AA13: 14.1 | AB13: 6 | AC13: 9.35 | AD13: 0 | AE13: 15.35 | AF13: 69.15 | AJ13: =IFERROR(VLOOKUP(D13,'U9'!B:AD,29,FALSE),0) -> 65.4 | AK13: =IFERROR(VLOOKUP(D13,'U9'!B:AD,1,FALSE),"-") -> Vrublovský Lukáš | AL13: =AF13+AJ13 -> 134.55
A14: 8 | B14: 245865 | C14: 9978 | D14: Zaika Daniel | E14: 2018 | F14: T.J. Sokol Bučovice | G14: kolektiv | H14: 5.5 | I14: 9.1 | J14: 0 | K14: 14.6 | L14: 0 | M14: 0 | N14: 0 | O14: 0 | P14: 6.5 | Q14: 8.6 | R14: 0 | S14: 15.1 | T14: 10.75 | U14: 0 | V14: 0 | W14: 10.75 | X14: 13.5 | Y14: 0 | Z14: 0 | AA14: 13.5 | AB14: 6 | AC14: 7.9 | AD14: 0 | AE14: 13.9 | AF14: 67.85 | AJ14: =IFERROR(VLOOKUP(D14,'U9'!B:AD,29,FALSE),0) -> 64.95 | AK14: =IFERROR(VLOOKUP(D14,'U9'!B:AD,1,FALSE),"-") -> Zaika Daniel | AL14: =AF14+AJ14 -> 132.8
A15: 9 | B15: 353861 | C15: 2040 | D15: Peřina Jan | E15: 2017 | F15: T.J. Sokol Šternberk | G15: Kryl Zbyněk | H15: 4.5 | I15: 8.5 | J15: 0 | K15: 13 | L15: 0 | M15: 0 | N15: 0 | O15: 0 | P15: 6.5 | Q15: 8.8 | R15: 0 | S15: 15.3 | T15: 10.625 | U15: 0 | V15: 0 | W15: 10.625 | X15: 12.8 | Y15: 0 | Z15: 0 | AA15: 12.8 | AB15: 6 | AC15: 8.4 | AD15: 0 | AE15: 14.4 | AF15: 66.125 | AJ15: =IFERROR(VLOOKUP(D15,'U9'!B:AD,29,FALSE),0) -> 66.3 | AK15: =IFERROR(VLOOKUP(D15,'U9'!B:AD,1,FALSE),"-") -> Peřina Jan | AL15: =AF15+AJ15 -> 132.425
A16: 10 | B16: 663055 | C16: 9978 | D16: Otruba Jindřich | E16: 2019 | F16: T.J. Sokol Bučovice | G16: kolektiv | H16: 6.5 | I16: 8.6 | J16: 0 | K16: 15.1 | L16: 0 | M16: 0 | N16: 0 | O16: 0 | P16: 6.5 | Q16: 7.8 | R16: 0 | S16: 14.3 | T16: 9.6 | U16: 0 | V16: 0 | W16: 9.6 | X16: 13.8 | Y16: 0 | Z16: 0 | AA16: 13.8 | AB16: 6.5 | AC16: 8.1 | AD16: 0 | AE16: 14.6 | AF16: 67.4 | AJ16: =IFERROR(VLOOKUP(D16,'U9'!B:AD,29,FALSE),0) -> 63.05 | AK16: =IFERROR(VLOOKUP(D16,'U9'!B:AD,1,FALSE),"-") -> Otruba Jindřich | AL16: =AF16+AJ16 -> 130.45
A17: 11 | B17: 446788 | C17: 9512 | D17: Lutonský Lukáš | E17: 2017 | F17: Gymnastika Zlín | G17: Vyoral David | H17: 4.5 | I17: 8.5 | J17: 0 | K17: 13 | L17: 0 | M17: 0 | N17: 0 | O17: 0 | P17: 5 | Q17: 8.7 | R17: 0 | S17: 13.7 | T17: 10.625 | U17: 0 | V17: 0 | W17: 10.625 | X17: 12.7 | Y17: 0 | Z17: 0 | AA17: 12.7 | AB17: 4.5 | AC17: 8.6 | AD17: 0 | AE17: 13.1 | AF17: 63.125 | AH17: 30.9.2026 20:46 | AJ17: =IFERROR(VLOOKUP(D17,'U9'!B:AD,29,FALSE),0) -> 67.3 | AK17: =IFERROR(VLOOKUP(D17,'U9'!B:AD,1,FALSE),"-") -> Lutonský Lukáš | AL17: =AF17+AJ17 -> 130.425
A18: 12 | B18: 357371 | C18: 2876 | D18: Pazdera Sebastian | E18: 2018 | F18: KSG SK Přerov | G18: manželé Dohnalíkovi | H18: 4.5 | I18: 8.1 | J18: 0 | K18: 12.6 | L18: 0 | M18: 0 | N18: 0 | O18: 0 | P18: 6 | Q18: 9.5 | R18: 0 | S18: 15.5 | T18: 10.825 | U18: 0 | V18: 0 | W18: 10.825 | X18: 13.2 | Y18: 0 | Z18: 0 | AA18: 13.2 | AB18: 6 | AC18: 8.7 | AD18: 0 | AE18: 14.7 | AF18: 66.825 | AJ18: =IFERROR(VLOOKUP(D18,'U9'!B:AD,29,FALSE),0) -> 62.05 | AK18: =IFERROR(VLOOKUP(D18,'U9'!B:AD,1,FALSE),"-") -> Pazdera Sebastian | AL18: =AF18+AJ18 -> 128.875
A19: 13 | B19: 190849 | C19: 9978 | D19: Puk Jakub | E19: 2017 | F19: T.J. Sokol Bučovice | G19: kolektiv | H19: 5 | I19: 8.7 | J19: 0 | K19: 13.7 | L19: 0 | M19: 0 | N19: 0 | O19: 0 | P19: 6.5 | Q19: 8.2 | R19: 0 | S19: 14.7 | T19: 10.4 | U19: 0 | V19: 0 | W19: 10.4 | X19: 12.7 | Y19: 0 | Z19: 0 | AA19: 12.7 | AB19: 6 | AC19: 7.3 | AD19: 0 | AE19: 13.3 | AF19: 64.8 | AJ19: =IFERROR(VLOOKUP(D19,'U9'!B:AD,29,FALSE),0) -> 64 | AK19: =IFERROR(VLOOKUP(D19,'U9'!B:AD,1,FALSE),"-") -> Puk Jakub | AL19: =AF19+AJ19 -> 128.8
A20: 14 | B20: 623379 | C20: 8512 | D20: Vlach Adam | E20: 2017 | F20: KSG Rosice | G20: Kolektiv | H20: 5 | I20: 8.4 | J20: 0 | K20: 13.4 | L20: 0 | M20: 0 | N20: 0 | O20: 0 | P20: 5 | Q20: 9.1 | R20: 0 | S20: 14.1 | T20: 10.55 | U20: 0 | V20: 0 | W20: 10.55 | X20: 12.8 | Y20: 0 | Z20: 0 | AA20: 12.8 | AB20: 5 | AC20: 7.7 | AD20: 0 | AE20: 12.7 | AF20: 63.55 | AJ20: =IFERROR(VLOOKUP(D20,'U9'!B:AD,29,FALSE),0) -> 64.55 | AK20: =IFERROR(VLOOKUP(D20,'U9'!B:AD,1,FALSE),"-") -> Vlach Adam | AL20: =AF20+AJ20 -> 128.1
A21: 15 | B21: 642600 | C21: 2040 | D21: Vítámvás Jan | E21: 2017 | F21: T.J. Sokol Šternberk | G21: Kryl Zbyněk | H21: 4.5 | I21: 8.3 | J21: 0 | K21: 12.8 | L21: 0 | M21: 0 | N21: 0 | O21: 0 | P21: 5.5 | Q21: 8.7 | R21: 0 | S21: 14.2 | T21: 10.7 | U21: 0 | V21: 0 | W21: 10.7 | X21: 13 | Y21: 0 | Z21: 0 | AA21: 13 | AB21: 6 | AC21: 8 | AD21: 0 | AE21: 14 | AF21: 64.7 | AJ21: =IFERROR(VLOOKUP(D21,'U9'!B:AD,29,FALSE),0) -> 61.85 | AK21: =IFERROR(VLOOKUP(D21,'U9'!B:AD,1,FALSE),"-") -> Vítámvás Jan | AL21: =AF21+AJ21 -> 126.55
A22: 16 | B22: 588016 | C22: 9512 | D22: Korec Sebastian | E22: 2019 | F22: Gymnastika Zlín | G22: Vyoral David | H22: 5 | I22: 8.4 | J22: 0 | K22: 13.4 | L22: 0 | M22: 0 | N22: 0 | O22: 0 | P22: 5.5 | Q22: 7.8 | R22: 0 | S22: 13.3 | T22: 10.45 | U22: 0 | V22: 0 | W22: 10.45 | X22: 12.3 | Y22: 0 | Z22: 0 | AA22: 12.3 | AB22: 5 | AC22: 7.4 | AD22: 0 | AE22: 12.4 | AF22: 61.85 | AH22: 30.9.2026 20:46 | AJ22: =IFERROR(VLOOKUP(D22,'U9'!B:AD,29,FALSE),0) -> 62.3 | AK22: =IFERROR(VLOOKUP(D22,'U9'!B:AD,1,FALSE),"-") -> Korec Sebastian | AL22: =AF22+AJ22 -> 124.15
A23: 17 | B23: 205601 | C23: 2876 | D23: Dohnalík Antonín | E23: 2017 | F23: KSG SK Přerov | G23: manželé Dohnalíkovi | H23: 4.5 | I23: 7.7 | J23: 0 | K23: 12.2 | L23: 0 | M23: 0 | N23: 0 | O23: 0 | P23: 6 | Q23: 7.6 | R23: 0 | S23: 13.6 | T23: 10.1 | U23: 0 | V23: 0 | W23: 10.1 | X23: 12.5 | Y23: 0 | Z23: 0 | AA23: 12.5 | AB23: 4.5 | AC23: 8.1 | AD23: 0 | AE23: 12.6 | AF23: 61 | AJ23: =IFERROR(VLOOKUP(D23,'U9'!B:AD,29,FALSE),0) -> 60.8 | AK23: =IFERROR(VLOOKUP(D23,'U9'!B:AD,1,FALSE),"-") -> Dohnalík Antonín | AL23: =AF23+AJ23 -> 121.8
A24: 18 | B24: 934469 | C24: 2040 | D24: Tavlaridis Timon | E24: 2019 | F24: T.J. Sokol Šternberk | G24: Kryl Zbyněk | H24: 4.5 | I24: 6.7 | J24: 0 | K24: 11.2 | L24: 0 | M24: 0 | N24: 0 | O24: 0 | P24: 6 | Q24: 8.25 | R24: 0 | S24: 14.25 | T24: 10.3 | U24: 0 | V24: 0 | W24: 10.3 | X24: 12.3 | Y24: 0 | Z24: 0 | AA24: 12.3 | AB24: 6 | AC24: 7.6 | AD24: 0 | AE24: 13.6 | AF24: 61.65 | AJ24: =IFERROR(VLOOKUP(D24,'U9'!B:AD,29,FALSE),0) -> 59.6 | AK24: =IFERROR(VLOOKUP(D24,'U9'!B:AD,1,FALSE),"-") -> Tavlaridis Timon | AL24: =AF24+AJ24 -> 121.25
A25: 19 | B25: 685631 | C25: 3198 | D25: Starosta Eduard | E25: 2019 | F25: SGC Ostrava | G25: Kalinová | H25: 5 | I25: 7.5 | J25: 0 | K25: 12.5 | L25: 0 | M25: 0 | N25: 0 | O25: 0 | P25: 5 | Q25: 8.9 | R25: 0 | S25: 13.9 | T25: 10.25 | U25: 0 | V25: 0 | W25: 10.25 | X25: 12.8 | Y25: 0 | Z25: 0 | AA25: 12.8 | AB25: 5 | AC25: 8.85 | AD25: 0 | AE25: 13.85 | AF25: 63.3 | AJ25: =IFERROR(VLOOKUP(D25,'U9'!B:AD,29,FALSE),0) -> 56.25 | AK25: =IFERROR(VLOOKUP(D25,'U9'!B:AD,1,FALSE),"-") -> Starosta Eduard | AL25: =AF25+AJ25 -> 119.55
A26: 20 | B26: 945226 | C26: 4277 | D26: Linhárek Jan | E26: 2018 | F26: T.J. Sokol Brno I | G26: Adamus, Šácha | H26: 6.5 | I26: 9.3 | J26: 0 | K26: 15.8 | L26: 0 | M26: 0 | N26: 0 | O26: 0 | P26: 6.5 | Q26: 8.9 | R26: 0 | S26: 15.4 | T26: 12.275 | U26: 0 | V26: 0 | W26: 12.275 | X26: 13 | Y26: 0 | Z26: 0 | AA26: 13 | AB26: 6.5 | AC26: 9.1 | AD26: 0 | AE26: 15.6 | AF26: 72.075 | AJ26: =IFERROR(VLOOKUP(D26,'U9'!B:AD,29,FALSE),0) -> 0 | AK26: =IFERROR(VLOOKUP(D26,'U9'!B:AD,1,FALSE),"-") -> - | AL26: =AF26+AJ26 -> 72.075
A27: 21 | B27: 843689 | C27: 4277 | D27: Svoboda Maxian | E27: 2019 | F27: T.J. Sokol Brno I | G27: Adamus, Šácha | H27: 6.5 | I27: 8.5 | J27: 0 | K27: 15 | L27: 0 | M27: 0 | N27: 0 | O27: 0 | P27: 6.5 | Q27: 9 | R27: 0 | S27: 15.5 | T27: 11.35 | U27: 0 | V27: 0 | W27: 11.35 | X27: 14.2 | Y27: 0 | Z27: 0 | AA27: 14.2 | AB27: 6.5 | AC27: 8.8 | AD27: 0 | AE27: 15.3 | AF27: 71.35 | AJ27: =IFERROR(VLOOKUP(D27,'U9'!B:AD,29,FALSE),0) -> 0 | AK27: =IFERROR(VLOOKUP(D27,'U9'!B:AD,1,FALSE),"-") -> - | AL27: =AF27+AJ27 -> 71.35
A28: 22 | B28: 272033 | C28: 4277 | D28: Streit Filip | E28: 2017 | F28: T.J. Sokol Brno I | G28: Adamus, Šácha | H28: 6.5 | I28: 9.1 | J28: 0 | K28: 15.6 | L28: 0 | M28: 0 | N28: 0 | O28: 0 | P28: 6.5 | Q28: 9.2 | R28: 0 | S28: 15.7 | T28: 11.05 | U28: 0 | V28: 0 | W28: 11.05 | X28: 13.6 | Y28: 0 | Z28: 0 | AA28: 13.6 | AB28: 6.5 | AC28: 8.8 | AD28: 0 | AE28: 15.3 | AF28: 71.25 | AJ28: =IFERROR(VLOOKUP(D28,'U9'!B:AD,29,FALSE),0) -> 0 | AK28: =IFERROR(VLOOKUP(D28,'U9'!B:AD,1,FALSE),"-") -> - | AL28: =AF28+AJ28 -> 71.25
A29: 23 | B29: 585306 | C29: 4277 | D29: Kvaček Tomáš | E29: 2017 | F29: T.J. Sokol Brno I | G29: Hron | H29: 6.5 | I29: 6.1 | J29: 0 | K29: 12.6 | L29: 0 | M29: 0 | N29: 0 | O29: 0 | P29: 6.5 | Q29: 9.2 | R29: 0 | S29: 15.7 | T29: 12.175 | U29: 0 | V29: 0 | W29: 12.175 | X29: 15.3 | Y29: 0 | Z29: 0 | AA29: 15.3 | AB29: 6.5 | AC29: 8.8 | AD29: 0 | AE29: 15.3 | AF29: 71.075 | AJ29: =IFERROR(VLOOKUP(D29,'U9'!B:AD,29,FALSE),0) -> 0 | AK29: =IFERROR(VLOOKUP(D29,'U9'!B:AD,1,FALSE),"-") -> - | AL29: =AF29+AJ29 -> 71.075
A30: 24 | B30: 102971 | C30: 4277 | D30: Šedo Ignác | E30: 2017 | F30: T.J. Sokol Brno I | G30: Adamus, Šácha | H30: 6.5 | I30: 9 | J30: 0 | K30: 15.5 | L30: 0 | M30: 0 | N30: 0 | O30: 0 | P30: 6.5 | Q30: 8.2 | R30: 0 | S30: 14.7 | T30: 12.05 | U30: 0 | V30: 0 | W30: 12.05 | X30: 13.1 | Y30: 0 | Z30: 0 | AA30: 13.1 | AB30: 6.5 | AC30: 8.7 | AD30: 0 | AE30: 15.2 | AF30: 70.55 | AJ30: =IFERROR(VLOOKUP(D30,'U9'!B:AD,29,FALSE),0) -> 0 | AK30: =IFERROR(VLOOKUP(D30,'U9'!B:AD,1,FALSE),"-") -> - | AL30: =AF30+AJ30 -> 70.55
A31: 25 | B31: 939040 | C31: 4277 | D31: Kincl Eduard | E31: 2017 | F31: T.J. Sokol Brno I | G31: Adamus, Šácha | H31: 6.5 | I31: 8.8 | J31: 0 | K31: 15.3 | L31: 0 | M31: 0 | N31: 0 | O31: 0 | P31: 6.5 | Q31: 8.4 | R31: 0 | S31: 14.9 | T31: 11.175 | U31: 0 | V31: 0 | W31: 11.175 | X31: 12.5 | Y31: 0 | Z31: 0 | AA31: 12.5 | AB31: 6.5 | AC31: 8.2 | AD31: 0 | AE31: 14.7 | AF31: 68.575 | AJ31: =IFERROR(VLOOKUP(D31,'U9'!B:AD,29,FALSE),0) -> 0 | AK31: =IFERROR(VLOOKUP(D31,'U9'!B:AD,1,FALSE),"-") -> - | AL31: =AF31+AJ31 -> 68.575
A32: 26 | B32: 603704 | C32: 4277 | D32: Šebela Erik | E32: 2018 | F32: T.J. Sokol Brno I | G32: Adamus, Šácha | H32: 4.5 | I32: 8.4 | J32: 0 | K32: 12.9 | L32: 0 | M32: 0 | N32: 0 | O32: 0 | P32: 6.5 | Q32: 8.8 | R32: 0 | S32: 15.3 | T32: 10.925 | U32: 0 | V32: 0 | W32: 10.925 | X32: 13.8 | Y32: 0 | Z32: 0 | AA32: 13.8 | AB32: 6.5 | AC32: 8.5 | AD32: 0 | AE32: 15 | AF32: 67.925 | AJ32: =IFERROR(VLOOKUP(D32,'U9'!B:AD,29,FALSE),0) -> 0 | AK32: =IFERROR(VLOOKUP(D32,'U9'!B:AD,1,FALSE),"-") -> - | AL32: =AF32+AJ32 -> 67.925
A33: 27 | B33: 606365 | C33: 4277 | D33: Beneš Patrik | E33: 2017 | F33: T.J. Sokol Brno I | G33: Adamus, Šácha | H33: 6.5 | I33: 8.1 | J33: 0 | K33: 14.6 | L33: 0 | M33: 0 | N33: 0 | O33: 0 | P33: 6.5 | Q33: 8.2 | R33: 0 | S33: 14.7 | T33: 11.225 | U33: 0 | V33: 0 | W33: 11.225 | X33: 13.1 | Y33: 0 | Z33: 0 | AA33: 13.1 | AB33: 6.5 | AC33: 7.4 | AD33: 0 | AE33: 13.9 | AF33: 67.525 | AJ33: =IFERROR(VLOOKUP(D33,'U9'!B:AD,29,FALSE),0) -> 0 | AK33: =IFERROR(VLOOKUP(D33,'U9'!B:AD,1,FALSE),"-") -> - | AL33: =AF33+AJ33 -> 67.525
A34: 28 | B34: 598014 | C34: 4277 | D34: Henry Oliver | E34: 2017 | F34: T.J. Sokol Brno I | G34: Adamus, Šácha | H34: 5.5 | I34: 8.5 | J34: 0 | K34: 14 | L34: 0 | M34: 0 | N34: 0 | O34: 0 | P34: 6.5 | Q34: 8.4 | R34: 0 | S34: 14.9 | T34: 10.2 | U34: 0 | V34: 0 | W34: 10.2 | X34: 12.5 | Y34: 0 | Z34: 0 | AA34: 12.5 | AB34: 6.5 | AC34: 7.7 | AD34: 0 | AE34: 14.2 | AF34: 65.8 | AJ34: =IFERROR(VLOOKUP(D34,'U9'!B:AD,29,FALSE),0) -> 0 | AK34: =IFERROR(VLOOKUP(D34,'U9'!B:AD,1,FALSE),"-") -> - | AL34: =AF34+AJ34 -> 65.8
... A36: 30 | B36: 786243 | C36: 8512 | D36: Anisimov Gleb | E36: 2019 | F36: KSG Rosice | G36: Kolektiv | H36: 5 | I36: 8.2 | J36: 0 | K36: 13.2 | L36: 0 | M36: 0 | N36: 0 | O36: 0 | P36: 5 | Q36: 9 | R36: 0 | S36: 14 | T36: 9.95 | U36: 0 | V36: 0 | W36: 9.95 | X36: 12.1 | Y36: 0 | Z36: 0 | AA36: 12.1 | AB36: 5 | AC36: 7.6 | AD36: 0 | AE36: 12.6 | AF36: 61.85 | AJ36: =IFERROR(VLOOKUP(D36,'U9'!B:AD,29,FALSE),0) -> 0 | AK36: =IFERROR(VLOOKUP(D36,'U9'!B:AD,1,FALSE),"-") -> - | AL36: =AF36+AJ36 -> 61.85
A37: 31 | B37: 487924 | C37: 7949 | D37: Orava Jindřich | E37: 2019 | F37: KSG Moravská Slavia Brno | H37: 4.5 | I37: 8.1 | J37: 0 | K37: 12.6 | L37: 0 | M37: 0 | N37: 0 | O37: 0 | P37: 6 | Q37: 8.4 | R37: 0 | S37: 14.4 | T37: 10.27 | U37: 0 | V37: 0 | W37: 10.27 | X37: 11.4 | Y37: 0 | Z37: 0 | AA37: 11.4 | AB37: 4 | AC37: 8.45 | AD37: 0 | AE37: 12.45 | AF37: 61.12 | AH37: 30.9.2026 18:36 | AJ37: =IFERROR(VLOOKUP(D37,'U9'!B:AD,29,FALSE),0) -> 0 | AK37: =IFERROR(VLOOKUP(D37,'U9'!B:AD,1,FALSE),"-") -> - | AL37: =AF37+AJ37 -> 61.12
A38: 32 | B38: 333502 | C38: 2040 | D38: Opluštil Viktor | E38: 2017 | F38: T.J. Sokol Šternberk | G38: Kryl Zbyněk | H38: 4.5 | I38: 6.8 | J38: 0 | K38: 11.3 | L38: 0 | M38: 0 | N38: 0 | O38: 0 | P38: 5 | Q38: 7.6 | R38: 0 | S38: 12.6 | T38: 9.325 | U38: 0 | V38: 0 | W38: 9.325 | X38: 12 | Y38: 0 | Z38: 0 | AA38: 12 | AB38: 5.5 | AC38: 6.9 | AD38: 0 | AE38: 12.4 | AF38: 57.625 | AJ38: =IFERROR(VLOOKUP(D38,'U9'!B:AD,29,FALSE),0) -> 0 | AK38: =IFERROR(VLOOKUP(D38,'U9'!B:AD,1,FALSE),"-") -> - | AL38: =AF38+AJ38 -> 57.625
A39: 33 | B39: 396752 | C39: 8537 | D39: Eller Matyáš | E39: 2018 | F39: KSG Znojmo | G39: Kostik | H39: 4 | I39: 6.8 | J39: 0 | K39: 10.8 | L39: 0 | M39: 0 | N39: 0 | O39: 0 | P39: 5.5 | Q39: 7 | R39: 0 | S39: 12.5 | T39: 9.125 | U39: 0 | V39: 0 | W39: 9.125 | X39: 12.3 | Y39: 0 | Z39: 0 | AA39: 12.3 | AB39: 5.5 | AC39: 6.7 | AD39: 0 | AE39: 12.2 | AF39: 56.925 | AJ39: =IFERROR(VLOOKUP(D39,'U9'!B:AD,29,FALSE),0) -> 0 | AK39: =IFERROR(VLOOKUP(D39,'U9'!B:AD,1,FALSE),"-") -> - | AL39: =AF39+AJ39 -> 56.925
A40: 34 | B40: 559643 | C40: 3198 | D40: Tomáš Adam | E40: 2019 | F40: SGC Ostrava | G40: Faltýnková | H40: 0 | I40: 0 | J40: 0 | K40: 0 | L40: 0 | M40: 0 | N40: 0 | O40: 0 | P40: 0 | Q40: 0 | R40: 0 | S40: 0 | T40: 0 | U40: 0 | V40: 0 | W40: 0 | X40: 0 | Y40: 0 | Z40: 0 | AA40: 0 | AB40: 0 | AC40: 0 | AD40: 0 | AE40: 0 | AF40: 0 | AJ40: =IFERROR(VLOOKUP(D40,'U9'!B:AD,29,FALSE),0) -> 52.5 | AK40: =IFERROR(VLOOKUP(D40,'U9'!B:AD,1,FALSE),"-") -> Tomáš Adam | AL40: =AF40+AJ40 -> 52.5
A41: 35 | B41: 115526 | C41: 8512 | D41: Malý Oliver | E41: 2018 | F41: KSG Rosice | G41: Kolektiv | H41: 0 | I41: 0 | J41: 0 | K41: 0 | L41: 0 | M41: 0 | N41: 0 | O41: 0 | P41: 0 | Q41: 0 | R41: 0 | S41: 0 | T41: 0 | U41: 0 | V41: 0 | W41: 0 | X41: 0 | Y41: 0 | Z41: 0 | AA41: 0 | AB41: 0 | AC41: 0 | AD41: 0 | AE41: 0 | AF41: 0 | AJ41: =IFERROR(VLOOKUP(D41,'U9'!B:AD,29,FALSE),0) -> 0 | AK41: =IFERROR(VLOOKUP(D41,'U9'!B:AD,1,FALSE),"-") -> - | AL41: =AF41+AJ41 -> 0
A42: 36 | B42: 992492 | C42: 4277 | D42: Eliáš Artur | E42: 2018 | F42: T.J. Sokol Brno I | G42: Adamus, Šácha | H42: 0 | I42: 0 | J42: 0 | K42: 0 | L42: 0 | M42: 0 | N42: 0 | O42: 0 | P42: 0 | Q42: 0 | R42: 0 | S42: 0 | T42: 0 | U42: 0 | V42: 0 | W42: 0 | X42: 0 | Y42: 0 | Z42: 0 | AA42: 0 | AB42: 0 | AC42: 0 | AD42: 0 | AE42: 0 | AF42: 0 | AJ42: =IFERROR(VLOOKUP(D42,'U9'!B:AD,29,FALSE),0) -> 0 | AK42: =IFERROR(VLOOKUP(D42,'U9'!B:AD,1,FALSE),"-") -> - | AL42: =AF42+AJ42 -> 0

Sheet 15733_U11
D1: Moravská liga 2026 CELKEM
D2: 3.10.2026
D3: U11
AF5: 2.kolo | AJ5: 1.kolo
A6: pořadí | B6: ev. č. | C6: č. oddilu | D6: jméno | E6: ročnik | F6: oddíl | G6: trenér | H6: D | I6: E | J6: pen | K6: prostná | L6: D | M6: E | N6: pen | O6: kůň | P6: D | Q6: E | R6: pen | S6: kruhy | T6: D | U6: E | V6: pen | W6: přeskok | X6: D | Y6: E | Z6: pen | AA6: bradla | AB6: D | AC6: E | AD6: pen | AE6: hrazda | AF6: celkem | AG6: pozn | AH6: přihlášeno po uzávěrce | AI6: lékařská prohlídka | AJ6: 1.kolo | AL6: Celkem
A7: 2 | B7: 879159 | C7: 2040 | D7: Vrublovský Matyáš | E7: 2016 | F7: T.J. Sokol Šternberk | G7: Kryl Zbyněk | H7: 1.7 | I7: 9.2 | J7: 0 | K7: =H7+I7-J7 -> 10.9 | L7: 0 | M7: 0 | N7: 0 | O7: =L7+M7-N7 -> 0 | P7: 1.4 | Q7: 9.8 | R7: 0 | S7: =P7+Q7-R7 -> 11.2 | T7: 1.2 | U7: 9.6 | V7: 0 | W7: =T7+U7-V7 -> 10.8 | X7: 2.7 | Y7: 9.4 | Z7: 0 | AA7: =X7+Y7-Z7 -> 12.1 | AB7: 0.6 | AC7: 9.2 | AD7: 1.5 | AE7: =AB7+AC7-AD7 -> 8.3 | AF7: =K7+O7+S7+W7+AA7+AE7 -> 53.3 | AJ7: =IFERROR(VLOOKUP(D7,'U11'!B:AD,29,FALSE),0) -> 52.8 | AK7: =IFERROR(VLOOKUP(D7,'U11'!B:AD,1,FALSE),"-") -> Vrublovský Matyáš | AL7: =AF7+AJ7 -> 106.1
A8: 3 | B8: 751928 | C8: 3198 | D8: Janda Adam | E8: 2015 | F8: SGC Ostrava | G8: Faltýnková, Pospíšilová | H8: 1.6 | I8: 9.1 | J8: 0 | K8: =H8+I8-J8 -> 10.7 | L8: 0 | M8: 0 | N8: 0 | O8: =L8+M8-N8 -> 0 | P8: 1.4 | Q8: 9.3 | R8: 0 | S8: =P8+Q8-R8 -> 10.7 | T8: 1.2 | U8: 8.95 | V8: 0 | W8: =T8+U8-V8 -> 10.15 | X8: 2.6 | Y8: 8.4 | Z8: 0 | AA8: =X8+Y8-Z8 -> 11 | AB8: 0.2 | AC8: 9.6 | AD8: 2 | AE8: =AB8+AC8-AD8 -> 7.8 | AF8: =K8+O8+S8+W8+AA8+AE8 -> 50.35 | AJ8: =IFERROR(VLOOKUP(D8,'U11'!B:AD,29,FALSE),0) -> 50.4 | AK8: =IFERROR(VLOOKUP(D8,'U11'!B:AD,1,FALSE),"-") -> Janda Adam | AL8: =AF8+AJ8 -> 100.75
A9: 5 | B9: 558051 | C9: 2040 | D9: Opletal Ondřej | E9: 2016 | F9: T.J. Sokol Šternberk | G9: Kryl Zbyněk | H9: 1.7 | I9: 9 | J9: 0 | K9: =H9+I9-J9 -> 10.7 | L9: 0 | M9: 0 | N9: 0 | O9: =L9+M9-N9 -> 0 | P9: 1.2 | Q9: 9.3 | R9: 0.5 | S9: =P9+Q9-R9 -> 10 | T9: 1.2 | U9: 9.3 | V9: 0 | W9: =T9+U9-V9 -> 10.5 | X9: 2.6 | Y9: 9 | Z9: 0 | AA9: =X9+Y9-Z9 -> 11.6 | AB9: 0.2 | AC9: 8.5 | AD9: 2 | AE9: =AB9+AC9-AD9 -> 6.7 | AF9: =K9+O9+S9+W9+AA9+AE9 -> 49.5 | AJ9: =IFERROR(VLOOKUP(D9,'U11'!B:AD,29,FALSE),0) -> 48.5 | AK9: =IFERROR(VLOOKUP(D9,'U11'!B:AD,1,FALSE),"-") -> Opletal Ondřej | AL9: =AF9+AJ9 -> 98
A10: 6 | B10: 540099 | C10: 8512 | D10: Matoušek Filip | E10: 2017 | F10: KSG Rosice | G10: Kolektiv | H10: 1.7 | I10: 9.1 | J10: 0 | K10: =H10+I10-J10 -> 10.8 | L10: 0 | M10: 0 | N10: 0 | O10: =L10+M10-N10 -> 0 | P10: 1.4 | Q10: 8.9 | R10: 0 | S10: =P10+Q10-R10 -> 10.3 | T10: 1.2 | U10: 9.15 | V10: 0 | W10: =T10+U10-V10 -> 10.35 | X10: 2.4 | Y10: 8.2 | Z10: 0 | AA10: =X10+Y10-Z10 -> 10.6 | AB10: 0.2 | AC10: 9.2 | AD10: 2 | AE10: =AB10+AC10-AD10 -> 7.4 | AF10: =K10+O10+S10+W10+AA10+AE10 -> 49.45 | AJ10: =IFERROR(VLOOKUP(D10,'U11'!B:AD,29,FALSE),0) -> 47.7 | AK10: =IFERROR(VLOOKUP(D10,'U11'!B:AD,1,FALSE),"-") -> Matoušek Filip | AL10: =AF10+AJ10 -> 97.15
A11: 8 | B11: 413555 | C11: 2040 | D11: Flášar Tobiáš | E11: 2016 | F11: T.J. Sokol Šternberk | G11: Kryl Zbyněk | H11: 1.7 | I11: 8.7 | J11: 0 | K11: =H11+I11-J11 -> 10.4 | L11: 0 | M11: 0 | N11: 0 | O11: =L11+M11-N11 -> 0 | P11: 1 | Q11: 9 | R11: 0.5 | S11: =P11+Q11-R11 -> 9.5 | T11: 1.2 | U11: 9.2 | V11: 0 | W11: =T11+U11-V11 -> 10.4 | X11: 2.5 | Y11: 8.2 | Z11: 0 | AA11: =X11+Y11-Z11 -> 10.7 | AB11: 0.2 | AC11: 8.4 | AD11: 2 | AE11: =AB11+AC11-AD11 -> 6.6 | AF11: =K11+O11+S11+W11+AA11+AE11 -> 47.6 | AJ11: =IFERROR(VLOOKUP(D11,'U11'!B:AD,29,FALSE),0) -> 48.4 | AK11: =IFERROR(VLOOKUP(D11,'U11'!B:AD,1,FALSE),"-") -> Flášar Tobiáš | AL11: =AF11+AJ11 -> 96
A12: 11 | B12: 810883 | C12: 9978 | D12: Kos Matyáš | E12: 2015 | F12: T.J. Sokol Bučovice | G12: Vejmola | H12: 1.7 | I12: 8.3 | J12: 0 | K12: =H12+I12-J12 -> 10 | L12: 0 | M12: 0 | N12: 0 | O12: =L12+M12-N12 -> 0 | P12: 1.3 | Q12: 8.4 | R12: 0.5 | S12: =P12+Q12-R12 -> 9.2 | T12: 1.2 | U12: 8.8 | V12: 0 | W12: =T12+U12-V12 -> 10 | X12: 2 | Y12: 8.6 | Z12: 0 | AA12: =X12+Y12-Z12 -> 10.6 | AB12: 0.2 | AC12: 8 | AD12: 2 | AE12: =AB12+AC12-AD12 -> 6.2 | AF12: =K12+O12+S12+W12+AA12+AE12 -> 46 | AJ12: =IFERROR(VLOOKUP(D12,'U11'!B:AD,29,FALSE),0) -> 46.5 | AK12: =IFERROR(VLOOKUP(D12,'U11'!B:AD,1,FALSE),"-") -> Kos Matyáš | AL12: =AF12+AJ12 -> 92.5
A13: 10 | B13: 210580 | C13: 8512 | D13: Kraus Adam | E13: 2015 | F13: KSG Rosice | G13: Kolektiv | H13: 1.5 | I13: 8.3 | J13: 0.3 | K13: =H13+I13-J13 -> 9.5 | L13: 0 | M13: 0 | N13: 0 | O13: =L13+M13-N13 -> 0 | P13: 1.4 | Q13: 8.5 | R13: 0 | S13: =P13+Q13-R13 -> 9.9 | T13: 1.2 | U13: 9 | V13: 0 | W13: =T13+U13-V13 -> 10.2 | X13: 2.4 | Y13: 8.4 | Z13: 0 | AA13: =X13+Y13-Z13 -> 10.8 | AB13: 0 | AC13: 8.5 | AD13: 2.5 | AE13: =AB13+AC13-AD13 -> 6 | AF13: =K13+O13+S13+W13+AA13+AE13 -> 46.4 | AJ13: =IFERROR(VLOOKUP(D13,'U11'!B:AD,29,FALSE),0) -> 44.75 | AK13: =IFERROR(VLOOKUP(D13,'U11'!B:AD,1,FALSE),"-") -> Kraus Adam | AL13: =AF13+AJ13 -> 91.15
A14: 12 | B14: 424415 | C14: 2975 | D14: Bednařík Jonáš | E14: 2016 | F14: T.J. Sokol Zlín | G14: Pavel Daněk | H14: 2.3 | I14: 7.9 | J14: 0 | K14: =H14+I14-J14 -> 10.2 | L14: 0 | M14: 0 | N14: 0 | O14: =L14+M14-N14 -> 0 | P14: 0.9 | Q14: 8.9 | R14: 1 | S14: =P14+Q14-R14 -> 8.8 | T14: 1.2 | U14: 9.3 | V14: 0 | W14: =T14+U14-V14 -> 10.5 | X14: 1.8 | Y14: 8.5 | Z14: 0 | AA14: =X14+Y14-Z14 -> 10.3 | AB14: 0.2 | AC14: 8 | AD14: 2 | AE14: =AB14+AC14-AD14 -> 6.2 | AF14: =K14+O14+S14+W14+AA14+AE14 -> 46 | AJ14: =IFERROR(VLOOKUP(D14,'U11'!B:AD,29,FALSE),0) -> 45.15 | AK14: =IFERROR(VLOOKUP(D14,'U11'!B:AD,1,FALSE),"-") -> Bednařík Jonáš | AL14: =AF14+AJ14 -> 91.15
A15: 15 | B15: 955367 | C15: 2040 | D15: Bosák Maxim | E15: 2016 | F15: T.J. Sokol Šternberk | G15: Kryl Zbyněk | H15: 1.2 | I15: 8.6 | J15: 0 | K15: =H15+I15-J15 -> 9.8 | L15: 0 | M15: 0 | N15: 0 | O15: =L15+M15-N15 -> 0 | P15: 1.2 | Q15: 8.4 | R15: 1 | S15: =P15+Q15-R15 -> 8.6 | T15: 1.2 | U15: 8.7 | V15: 0 | W15: =T15+U15-V15 -> 9.9 | X15: 1.9 | Y15: 8.2 | Z15: 0 | AA15: =X15+Y15-Z15 -> 10.1 | AB15: 0 | AC15: 8.1 | AD15: 2.5 | AE15: =AB15+AC15-AD15 -> 5.6 | AF15: =K15+O15+S15+W15+AA15+AE15 -> 44 | AJ15: =IFERROR(VLOOKUP(D15,'U11'!B:AD,29,FALSE),0) -> 43.3 | AK15: =IFERROR(VLOOKUP(D15,'U11'!B:AD,1,FALSE),"-") -> Bosák Maxim | AL15: =AF15+AJ15 -> 87.3
A16: 18 | B16: 403508 | C16: 7949 | D16: Halfar Tobiáš | E16: 2016 | F16: KSG Moravská Slavia Brno | G16: Toman | H16: 1.3 | I16: 8.2 | J16: 0 | K16: =H16+I16-J16 -> 9.5 | L16: 0 | M16: 0 | N16: 0 | O16: =L16+M16-N16 -> 0 | P16: 0.9 | Q16: 8.5 | R16: 1 | S16: =P16+Q16-R16 -> 8.4 | T16: 1.2 | U16: 8.6 | V16: 0 | W16: =T16+U16-V16 -> 9.8 | X16: 1.2 | Y16: 8.2 | Z16: 0 | AA16: =X16+Y16-Z16 -> 9.4 | AB16: 0 | AC16: 8 | AD16: 2.5 | AE16: =AB16+AC16-AD16 -> 5.5 | AF16: =K16+O16+S16+W16+AA16+AE16 -> 42.6 | AH16: 30.9.2026 18:37 | AJ16: =IFERROR(VLOOKUP(D16,'U11'!B:AD,29,FALSE),0) -> 42.65 | AK16: =IFERROR(VLOOKUP(D16,'U11'!B:AD,1,FALSE),"-") -> Halfar Tobiáš | AL16: =AF16+AJ16 -> 85.25
A17: 19 | B17: 623075 | C17: 8512 | D17: Hakl Michael | E17: 2016 | F17: KSG Rosice | G17: Kolektiv | H17: 1.7 | I17: 8 | J17: 0 | K17: =H17+I17-J17 -> 9.7 | L17: 0 | M17: 0 | N17: 0 | O17: =L17+M17-N17 -> 0 | P17: 0.9 | Q17: 8 | R17: 1 | S17: =P17+Q17-R17 -> 7.9 | T17: 1.2 | U17: 8.6 | V17: 0 | W17: =T17+U17-V17 -> 9.8 | X17: 2 | Y17: 8.2 | Z17: 0 | AA17: =X17+Y17-Z17 -> 10.2 | AB17: 0 | AC17: 7.4 | AD17: 2.5 | AE17: =AB17+AC17-AD17 -> 4.9 | AF17: =K17+O17+S17+W17+AA17+AE17 -> 42.5 | AJ17: =IFERROR(VLOOKUP(D17,'U11'!B:AD,29,FALSE),0) -> 41.4 | AK17: =IFERROR(VLOOKUP(D17,'U11'!B:AD,1,FALSE),"-") -> Hakl Michael | AL17: =AF17+AJ17 -> 83.9
A18: 22 | B18: 192257 | C18: 2876 | D18: Sládeček Vladimír | E18: 2016 | F18: KSG SK Přerov | G18: manželé Dohnalíkovi | H18: 1.8 | I18: 7.5 | J18: 0 | K18: =H18+I18-J18 -> 9.3 | L18: 0 | M18: 0 | N18: 0 | O18: =L18+M18-N18 -> 0 | P18: 0.9 | Q18: 8.7 | R18: 1 | S18: =P18+Q18-R18 -> 8.6 | T18: 1.2 | U18: 8.2 | V18: 0 | W18: =T18+U18-V18 -> 9.4 | X18: 1.4 | Y18: 8 | Z18: 0 | AA18: =X18+Y18-Z18 -> 9.4 | AB18: 0 | AC18: 7.6 | AD18: 2.5 | AE18: =AB18+AC18-AD18 -> 5.1 | AF18: =K18+O18+S18+W18+AA18+AE18 -> 41.8 | AJ18: =IFERROR(VLOOKUP(D18,'U11'!B:AD,29,FALSE),0) -> 41.25 | AK18: =IFERROR(VLOOKUP(D18,'U11'!B:AD,1,FALSE),"-") -> Sládeček Vladimír | AL18: =AF18+AJ18 -> 83.05
A19: 21 | B19: 358533 | C19: 3198 | D19: Jurášek Florián | E19: 2016 | F19: SGC Ostrava | G19: Faltýnková | H19: 1.4 | I19: 9.1 | J19: 1 | K19: =H19+I19-J19 -> 9.5 | L19: 0 | M19: 0 | N19: 0 | O19: =L19+M19-N19 -> 0 | P19: 0.8 | Q19: 8.6 | R19: 1.5 | S19: =P19+Q19-R19 -> 7.9 | T19: 1.2 | U19: 8.45 | V19: 0 | W19: =T19+U19-V19 -> 9.65 | X19: 1.2 | Y19: 8.2 | Z19: 0 | AA19: =X19+Y19-Z19 -> 9.4 | AB19: 0 | AC19: 7.9 | AD19: 2.5 | AE19: =AB19+AC19-AD19 -> 5.4 | AF19: =K19+O19+S19+W19+AA19+AE19 -> 41.85 | AJ19: =IFERROR(VLOOKUP(D19,'U11'!B:AD,29,FALSE),0) -> 40.1 | AK19: =IFERROR(VLOOKUP(D19,'U11'!B:AD,1,FALSE),"-") -> Jurášek Florián | AL19: =AF19+AJ19 -> 81.95
A20: 13 | B20: 217785 | C20: 2876 | D20: Prchal Bartoloměj | E20: 2016 | F20: KSG SK Přerov | G20: manželé Dohnalíkovi | H20: 1.6 | I20: 8.7 | J20: 0 | K20: =H20+I20-J20 -> 10.3 | L20: 0 | M20: 0 | N20: 0 | O20: =L20+M20-N20 -> 0 | P20: 1.4 | Q20: 8.4 | R20: 0 | S20: =P20+Q20-R20 -> 9.8 | T20: 1.2 | U20: 8.45 | V20: 0 | W20: =T20+U20-V20 -> 9.65 | X20: 1.8 | Y20: 7.6 | Z20: 0 | AA20: =X20+Y20-Z20 -> 9.4 | AB20: 0 | AC20: 8.6 | AD20: 2.5 | AE20: =AB20+AC20-AD20 -> 6.1 | AF20: =K20+O20+S20+W20+AA20+AE20 -> 45.25 | AJ20: =IFERROR(VLOOKUP(D20,'U11'!B:AD,29,FALSE),0) -> 36 | AK20: =IFERROR(VLOOKUP(D20,'U11'!B:AD,1,FALSE),"-") -> Prchal Bartoloměj | AL20: =AF20+AJ20 -> 81.25
A21: 23 | B21: 134906 | C21: 9978 | D21: Tichý Ondřej | E21: 2016 | F21: T.J. Sokol Bučovice | G21: Vejmola | H21: 1.8 | I21: 8.8 | J21: 0 | K21: =H21+I21-J21 -> 10.6 | L21: 0 | M21: 0 | N21: 0 | O21: =L21+M21-N21 -> 0 | P21: 0.6 | Q21: 7 | R21: 2 | S21: =P21+Q21-R21 -> 5.6 | T21: 1.2 | U21: 8.15 | V21: 0 | W21: =T21+U21-V21 -> 9.35 | X21: 1.2 | Y21: 8.4 | Z21: 0 | AA21: =X21+Y21-Z21 -> 9.6 | AB21: 0 | AC21: 6.4 | AD21: 2.5 | AE21: =AB21+AC21-AD21 -> 3.9 | AF21: =K21+O21+S21+W21+AA21+AE21 -> 39.05 | AJ21: =IFERROR(VLOOKUP(D21,'U11'!B:AD,29,FALSE),0) -> 40.35 | AK21: =IFERROR(VLOOKUP(D21,'U11'!B:AD,1,FALSE),"-") -> Tichý Ondřej | AL21: =AF21+AJ21 -> 79.4
A22: 17 | B22: 896660 | C22: 9553 | D22: Vyhnálek Josef | E22: 2016 | F22: SK UP Olomouc | G22: Buben | H22: 1.2 | I22: 6.8 | J22: 0 | K22: =H22+I22-J22 -> 8 | L22: 0 | M22: 0 | N22: 0 | O22: =L22+M22-N22 -> 0 | P22: 1.2 | Q22: 8 | R22: 0.5 | S22: =P22+Q22-R22 -> 8.7 | T22: 1.2 | U22: 8.5 | V22: 0 | W22: =T22+U22-V22 -> 9.7 | X22: 2.4 | Y22: 7.8 | Z22: 0 | AA22: =X22+Y22-Z22 -> 10.2 | AB22: 0.2 | AC22: 8.1 | AD22: 2 | AE22: =AB22+AC22-AD22 -> 6.3 | AF22: =K22+O22+S22+W22+AA22+AE22 -> 42.9 | AJ22: =IFERROR(VLOOKUP(D22,'U11'!B:AD,29,FALSE),0) -> 35.85 | AK22: =IFERROR(VLOOKUP(D22,'U11'!B:AD,1,FALSE),"-") -> Vyhnálek Josef | AL22: =AF22+AJ22 -> 78.75
A23: 20 | B23: 688495 | C23: 9978 | D23: Šedivý Patrick | E23: 2016 | F23: T.J. Sokol Bučovice | G23: Vejmola | H23: 1.3 | I23: 8.1 | J23: 0 | K23: =H23+I23-J23 -> 9.4 | L23: 0 | M23: 0 | N23: 0 | O23: =L23+M23-N23 -> 0 | P23: 1.2 | Q23: 8.2 | R23: 1 | S23: =P23+Q23-R23 -> 8.4 | T23: 1.2 | U23: 8.3 | V23: 0 | W23: =T23+U23-V23 -> 9.5 | X23: 1.2 | Y23: 8.2 | Z23: 0 | AA23: =X23+Y23-Z23 -> 9.4 | AB23: 0 | AC23: 8.1 | AD23: 2.5 | AE23: =AB23+AC23-AD23 -> 5.6 | AF23: =K23+O23+S23+W23+AA23+AE23 -> 42.3 | AJ23: =IFERROR(VLOOKUP(D23,'U11'!B:AD,29,FALSE),0) -> 35.55 | AK23: =IFERROR(VLOOKUP(D23,'U11'!B:AD,1,FALSE),"-") -> Šedivý Patrick | AL23: =AF23+AJ23 -> 77.85
A24: 25 | B24: 141594 | C24: 3198 | D24: Dresler Pavel | E24: 2015 | F24: SGC Ostrava | G24: Faltýnková | H24: 1.1 | I24: 8.2 | J24: 1 | K24: =H24+I24-J24 -> 8.3 | L24: 0 | M24: 0 | N24: 0 | O24: =L24+M24-N24 -> 0 | P24: 0.9 | Q24: 8.1 | R24: 1 | S24: =P24+Q24-R24 -> 8 | T24: 1.2 | U24: 8 | V24: 0 | W24: =T24+U24-V24 -> 9.2 | X24: 0.6 | Y24: 7.5 | Z24: 0 | AA24: =X24+Y24-Z24 -> 8.1 | AB24: 0 | AC24: 7.3 | AD24: 2.5 | AE24: =AB24+AC24-AD24 -> 4.8 | AF24: =K24+O24+S24+W24+AA24+AE24 -> 38.4 | AJ24: =IFERROR(VLOOKUP(D24,'U11'!B:AD,29,FALSE),0) -> 34.8 | AK24: =IFERROR(VLOOKUP(D24,'U11'!B:AD,1,FALSE),"-") -> Dresler Pavel | AL24: =AF24+AJ24 -> 73.2
A25: 1 | B25: 780406 | C25: 4277 | D25: Perros Eleftherios | E25: 2015 | F25: T.J. Sokol Brno I | G25: Hron | H25: 2.3 | I25: 9.5 | J25: 0 | K25: =H25+I25-J25 -> 11.8 | L25: 0 | M25: 0 | N25: 0 | O25: =L25+M25-N25 -> 0 | P25: 1.6 | Q25: 8.9 | R25: 0 | S25: =P25+Q25-R25 -> 10.5 | T25: 1.2 | U25: 9.25 | V25: 0 | W25: =T25+U25-V25 -> 10.45 | X25: 2.6 | Y25: 8.8 | Z25: 0 | AA25: =X25+Y25-Z25 -> 11.4 | AB25: 1.2 | AC25: 9.1 | AD25: 1 | AE25: =AB25+AC25-AD25 -> 9.3 | AF25: =K25+O25+S25+W25+AA25+AE25 -> 53.45 | AJ25: =IFERROR(VLOOKUP(D25,'U11'!B:AD,29,FALSE),0) -> 0 | AK25: =IFERROR(VLOOKUP(D25,'U11'!B:AD,1,FALSE),"-") -> - | AL25: =AF25+AJ25 -> 53.45
A26: 4 | B26: 780827 | C26: 4277 | D26: Rýznar Viliam | E26: 2016 | F26: T.J. Sokol Brno I | G26: Hedbávný, Šácha | H26: 1.9 | I26: 8.2 | J26: 0 | K26: =H26+I26-J26 -> 10.1 | L26: 0 | M26: 0 | N26: 0 | O26: =L26+M26-N26 -> 0 | P26: 1.4 | Q26: 8.9 | R26: 0 | S26: =P26+Q26-R26 -> 10.3 | T26: 1.2 | U26: 9.05 | V26: 0 | W26: =T26+U26-V26 -> 10.25 | X26: 2.1 | Y26: 8.2 | Z26: 0 | AA26: =X26+Y26-Z26 -> 10.3 | AB26: 1.2 | AC26: 8.8 | AD26: 1 | AE26: =AB26+AC26-AD26 -> 9 | AF26: =K26+O26+S26+W26+AA26+AE26 -> 49.95 | AH26: 1.10.2026 12:10 | AJ26: =IFERROR(VLOOKUP(D26,'U11'!B:AD,29,FALSE),0) -> 0 | AK26: =IFERROR(VLOOKUP(D26,'U11'!B:AD,1,FALSE),"-") -> - | AL26: =AF26+AJ26 -> 49.95
A27: 7 | B27: 605478 | C27: 4277 | D27: Hanhur Nazar | E27: 2015 | F27: T.J. Sokol Brno I | G27: Hron | H27: 1.7 | I27: 8.7 | J27: 0 | K27: =H27+I27-J27 -> 10.4 | L27: 0 | M27: 0 | N27: 0 | O27: =L27+M27-N27 -> 0 | P27: 1.4 | Q27: 8 | R27: 0 | S27: =P27+Q27-R27 -> 9.4 | T27: 1.2 | U27: 9.25 | V27: 0 | W27: =T27+U27-V27 -> 10.45 | X27: 1.9 | Y27: 9 | Z27: 0 | AA27: =X27+Y27-Z27 -> 10.9 | AB27: 0.2 | AC27: 9.1 | AD27: 2 | AE27: =AB27+AC27-AD27 -> 7.3 | AF27: =K27+O27+S27+W27+AA27+AE27 -> 48.45 | AJ27: =IFERROR(VLOOKUP(D27,'U11'!B:AD,29,FALSE),0) -> 0 | AK27: =IFERROR(VLOOKUP(D27,'U11'!B:AD,1,FALSE),"-") -> - | AL27: =AF27+AJ27 -> 48.45
A28: 9 | B28: 844333 | C28: 4277 | D28: Denysyk Illia | E28: 2015 | F28: T.J. Sokol Brno I | G28: Hron | H28: 1.8 | I28: 8.3 | J28: 0 | K28: =H28+I28-J28 -> 10.1 | L28: 0 | M28: 0 | N28: 0 | O28: =L28+M28-N28 -> 0 | P28: 1.4 | Q28: 8.3 | R28: 0 | S28: =P28+Q28-R28 -> 9.7 | T28: 1.2 | U28: 9.2 | V28: 0 | W28: =T28+U28-V28 -> 10.4 | X28: 2.1 | Y28: 8.2 | Z28: 0 | AA28: =X28+Y28-Z28 -> 10.3 | AB28: 0.2 | AC28: 8.45 | AD28: 2 | AE28: =AB28+AC28-AD28 -> 6.65 | AF28: =K28+O28+S28+W28+AA28+AE28 -> 47.15 | AJ28: =IFERROR(VLOOKUP(D28,'U11'!B:AD,29,FALSE),0) -> 0 | AK28: =IFERROR(VLOOKUP(D28,'U11'!B:AD,1,FALSE),"-") -> - | AL28: =AF28+AJ28 -> 47.15
A29: 14 | B29: 381495 | C29: 9553 | D29: Hemerka Hubert | E29: 2015 | F29: SK UP Olomouc | G29: Buben | H29: 2 | I29: 7.7 | J29: 0 | K29: =H29+I29-J29 -> 9.7 | L29: 0 | M29: 0 | N29: 0 | O29: =L29+M29-N29 -> 0 | P29: 1.4 | Q29: 7.2 | R29: 0 | S29: =P29+Q29-R29 -> 8.6 | T29: 1.2 | U29: 9.15 | V29: 0 | W29: =T29+U29-V29 -> 10.35 | X29: 1.8 | Y29: 8.4 | Z29: 0 | AA29: =X29+Y29-Z29 -> 10.2 | AB29: 0.2 | AC29: 8 | AD29: 2 | AE29: =AB29+AC29-AD29 -> 6.2 | AF29: =K29+O29+S29+W29+AA29+AE29 -> 45.05 | AJ29: =IFERROR(VLOOKUP(D29,'U11'!B:AD,29,FALSE),0) -> 0 | AK29: =IFERROR(VLOOKUP(D29,'U11'!B:AD,1,FALSE),"-") -> - | AL29: =AF29+AJ29 -> 45.05
A30: 27 | B30: 762649 | C30: 9553 | D30: Florinskij Nikolaj | E30: 2016 | F30: SK UP Olomouc | G30: Buben | H30: 0 | I30: 0 | J30: 0 | K30: =H30+I30-J30 -> 0 | L30: 0 | M30: 0 | N30: 0 | O30: =L30+M30-N30 -> 0 | P30: 0 | Q30: 0 | R30: 0 | S30: =P30+Q30-R30 -> 0 | T30: 0 | U30: 0 | V30: 0 | W30: =T30+U30-V30 -> 0 | X30: 0 | Y30: 0 | Z30: 0 | AA30: =X30+Y30-Z30 -> 0 | AB30: 0 | AC30: 0 | AD30: 0 | AE30: =AB30+AC30-AD30 -> 0 | AF30: =K30+O30+S30+W30+AA30+AE30 -> 0 | AJ30: =IFERROR(VLOOKUP(D30,'U11'!B:AD,29,FALSE),0) -> 43.95 | AK30: =IFERROR(VLOOKUP(D30,'U11'!B:AD,1,FALSE),"-") -> Florinskij Nikolaj | AL30: =AF30+AJ30 -> 43.95
A31: 16 | B31: 573162 | C31: 8512 | D31: Kalousek Matyáš | E31: 2015 | F31: KSG Rosice | G31: Kolektiv | H31: 1.5 | I31: 8.7 | J31: 0 | K31: =H31+I31-J31 -> 10.2 | L31: 0 | M31: 0 | N31: 0 | O31: =L31+M31-N31 -> 0 | P31: 1.2 | Q31: 8.2 | R31: 1 | S31: =P31+Q31-R31 -> 8.4 | T31: 1.2 | U31: 8.7 | V31: 0 | W31: =T31+U31-V31 -> 9.9 | X31: 1.8 | Y31: 7.8 | Z31: 0 | AA31: =X31+Y31-Z31 -> 9.6 | AB31: 0 | AC31: 8.2 | AD31: 2.5 | AE31: =AB31+AC31-AD31 -> 5.7 | AF31: =K31+O31+S31+W31+AA31+AE31 -> 43.8 | AJ31: =IFERROR(VLOOKUP(D31,'U11'!B:AD,29,FALSE),0) -> 0 | AK31: =IFERROR(VLOOKUP(D31,'U11'!B:AD,1,FALSE),"-") -> - | AL31: =AF31+AJ31 -> 43.8
A32: 24 | B32: 259601 | C32: 4277 | D32: Dvořák Viktor | E32: 2016 | F32: T.J. Sokol Brno I | G32: Adamus, Šácha | H32: 2 | I32: 7.2 | J32: 0 | K32: =H32+I32-J32 -> 9.2 | L32: 0 | M32: 0 | N32: 0 | O32: =L32+M32-N32 -> 0 | P32: 1.3 | Q32: 6.6 | R32: 0.5 | S32: =P32+Q32-R32 -> 7.4 | T32: 1.2 | U32: 8.6 | V32: 0 | W32: =T32+U32-V32 -> 9.8 | X32: 0 | Y32: 7 | Z32: 0 | AA32: =X32+Y32-Z32 -> 7 | AB32: 0 | AC32: 7.5 | AD32: 2.5 | AE32: =AB32+AC32-AD32 -> 5 | AF32: =K32+O32+S32+W32+AA32+AE32 -> 38.4 | AJ32: =IFERROR(VLOOKUP(D32,'U11'!B:AD,29,FALSE),0) -> 0 | AK32: =IFERROR(VLOOKUP(D32,'U11'!B:AD,1,FALSE),"-") -> - | AL32: =AF32+AJ32 -> 38.4
A33: 26 | B33: 818420 | C33: 8512 | D33: Anisimov Klim | E33: 2016 | F33: KSG Rosice | G33: Kolektiv | H33: 1.4 | I33: 7.6 | J33: 0 | K33: =H33+I33-J33 -> 9 | L33: 0 | M33: 0 | N33: 0 | O33: =L33+M33-N33 -> 0 | P33: 0.6 | Q33: 6.9 | R33: 2 | S33: =P33+Q33-R33 -> 5.5 | T33: 0 | U33: 7 | V33: 0 | W33: =T33+U33-V33 -> 7 | X33: 1.3 | Y33: 8 | Z33: 0 | AA33: =X33+Y33-Z33 -> 9.3 | AB33: 0 | AC33: 7.9 | AD33: 2.5 | AE33: =AB33+AC33-AD33 -> 5.4 | AF33: =K33+O33+S33+W33+AA33+AE33 -> 36.2 | AJ33: =IFERROR(VLOOKUP(D33,'U11'!B:AD,29,FALSE),0) -> 0 | AK33: =IFERROR(VLOOKUP(D33,'U11'!B:AD,1,FALSE),"-") -> - | AL33: =AF33+AJ33 -> 36.2
A34: 28 | B34: 697970 | C34: 4277 | D34: Hrozek Mikuláš | E34: 2015 | F34: T.J. Sokol Brno I | G34: Hron | H34: 0 | I34: 0 | J34: 0 | K34: =H34+I34-J34 -> 0 | L34: 0 | M34: 0 | N34: 0 | O34: =L34+M34-N34 -> 0 | P34: 0 | Q34: 0 | R34: 0 | S34: =P34+Q34-R34 -> 0 | T34: 0 | U34: 0 | V34: 0 | W34: =T34+U34-V34 -> 0 | X34: 0 | Y34: 0 | Z34: 0 | AA34: =X34+Y34-Z34 -> 0 | AB34: 0 | AC34: 0 | AD34: 0 | AE34: =AB34+AC34-AD34 -> 0 | AF34: =K34+O34+S34+W34+AA34+AE34 -> 0 | AJ34: =IFERROR(VLOOKUP(D34,'U11'!B:AD,29,FALSE),0) -> 0 | AK34: =IFERROR(VLOOKUP(D34,'U11'!B:AD,1,FALSE),"-") -> - | AL34: =AF34+AJ34 -> 0
A35: 29 | B35: 214536 | C35: 4277 | D35: Lauterbach Tobias | E35: 2016 | F35: T.J. Sokol Brno I | G35: Hron | H35: 0 | I35: 0 | J35: 0 | K35: =H35+I35-J35 -> 0 | L35: 0 | M35: 0 | N35: 0 | O35: =L35+M35-N35 -> 0 | P35: 0 | Q35: 0 | R35: 0 | S35: =P35+Q35-R35 -> 0 | T35: 0 | U35: 0 | V35: 0 | W35: =T35+U35-V35 -> 0 | X35: 0 | Y35: 0 | Z35: 0 | AA35: =X35+Y35-Z35 -> 0 | AB35: 0 | AC35: 0 | AD35: 0 | AE35: =AB35+AC35-AD35 -> 0 | AF35: =K35+O35+S35+W35+AA35+AE35 -> 0 | AJ35: =IFERROR(VLOOKUP(D35,'U11'!B:AD,29,FALSE),0) -> 0 | AK35: =IFERROR(VLOOKUP(D35,'U11'!B:AD,1,FALSE),"-") -> - | AL35: =AF35+AJ35 -> 0

Sheet 15734_U13
D1: Moravská liga 2026 CELKEM
D2: 3.10.2026
D3: U13
AF5: 2.kolo | AJ5: 1.kolo
A6: pořadí | B6: ev. č. | C6: č. oddilu | D6: jméno | E6: ročnik | F6: oddíl | G6: trenér | H6: D | I6: E | J6: pen | K6: prostná | L6: D | M6: E | N6: pen | O6: kůň | P6: D | Q6: E | R6: pen | S6: kruhy | T6: D | U6: E | V6: pen | W6: přeskok | X6: D | Y6: E | Z6: pen | AA6: bradla | AB6: D | AC6: E | AD6: pen | AE6: hrazda | AF6: celkem | AG6: pozn | AH6: přihlášeno po uzávěrce | AI6: lékařská prohlídka | AJ6: 1.kolo | AL6: Celkem
A7: 1 | B7: 512079 | C7: 2040 | D7: Kořenek Karel | E7: 2014 | F7: T.J. Sokol Šternberk | G7: Kryl Zbyněk | H7: 2.3 | I7: 8 | J7: 0 | K7: =H7+I7-J7 -> 10.3 | L7: 0 | M7: 0 | N7: 0 | O7: =L7+M7-N7 -> 0 | P7: 1.5 | Q7: 9.2 | R7: 0 | S7: =P7+Q7-R7 -> 10.7 | T7: 1.2 | U7: 9 | V7: 0 | W7: =T7+U7-V7 -> 10.2 | X7: 1.8 | Y7: 7.8 | Z7: 0 | AA7: =X7+Y7-Z7 -> 9.6 | AB7: 0.2 | AC7: 9 | AD7: 2.5 | AE7: =AB7+AC7-AD7 -> 6.7 | AF7: =K7+O7+S7+W7+AA7+AE7 -> 47.5 | AJ7: =IFERROR(VLOOKUP(D7,'U13'!B:AD,29,FALSE),0) -> 47.45 | AK7: =IFERROR(VLOOKUP(D7,'U13'!B:AD,1,FALSE),"-") -> Kořenek Karel | AL7: =AF7+AJ7 -> 94.95
A8: 2 | B8: 523509 | C8: 2975 | D8: Černý Vít | E8: 2014 | F8: T.J. Sokol Zlín | G8: Pavel Daněk | H8: 1.8 | I8: 8.8 | J8: 0 | K8: =H8+I8-J8 -> 10.6 | L8: 0 | M8: 0 | N8: 0 | O8: =L8+M8-N8 -> 0 | P8: 0.9 | Q8: 8.4 | R8: 0.5 | S8: =P8+Q8-R8 -> 8.8 | T8: 1.2 | U8: 9.2 | V8: 0 | W8: =T8+U8-V8 -> 10.4 | X8: 1.9 | Y8: 8.2 | Z8: 0 | AA8: =X8+Y8-Z8 -> 10.1 | AB8: 0.2 | AC8: 8.3 | AD8: 2.5 | AE8: =AB8+AC8-AD8 -> 6 | AF8: =K8+O8+S8+W8+AA8+AE8 -> 45.9 | AJ8: =IFERROR(VLOOKUP(D8,'U13'!B:AD,29,FALSE),0) -> 42.5 | AK8: =IFERROR(VLOOKUP(D8,'U13'!B:AD,1,FALSE),"-") -> Černý Vít | AL8: =AF8+AJ8 -> 88.4
A9: 3 | B9: 433198 | C9: 7949 | D9: Hájek Benjamin | E9: 2013 | F9: KSG Moravská Slavia Brno | G9: Kostka a kol. | H9: 2.2 | I9: 7.7 | J9: 0 | K9: =H9+I9-J9 -> 9.9 | L9: 0 | M9: 0 | N9: 0 | O9: =L9+M9-N9 -> 0 | P9: 1.4 | Q9: 8.6 | R9: 0.5 | S9: =P9+Q9-R9 -> 9.5 | T9: 1.2 | U9: 8.9 | V9: 0 | W9: =T9+U9-V9 -> 10.1 | X9: 2.6 | Y9: 8 | Z9: 0 | AA9: =X9+Y9-Z9 -> 10.6 | AB9: 0.2 | AC9: 8.4 | AD9: 2.5 | AE9: =AB9+AC9-AD9 -> 6.1 | AF9: =K9+O9+S9+W9+AA9+AE9 -> 46.2 | AH9: 30.9.2026 18:37 | AJ9: =IFERROR(VLOOKUP(D9,'U13'!B:AD,29,FALSE),0) -> 41.5 | AK9: =IFERROR(VLOOKUP(D9,'U13'!B:AD,1,FALSE),"-") -> Hájek Benjamin | AL9: =AF9+AJ9 -> 87.7
A10: 4 | B10: 643276 | C10: 3198 | D10: Košťál Teodor | E10: 2014 | F10: SGC Ostrava | G10: Faltýnková | H10: 1.6 | I10: 7.7 | J10: 0 | K10: =H10+I10-J10 -> 9.3 | L10: 0 | M10: 0 | N10: 0 | O10: =L10+M10-N10 -> 0 | P10: 0.9 | Q10: 6.9 | R10: 1.5 | S10: =P10+Q10-R10 -> 6.3 | T10: 1.2 | U10: 8.5 | V10: 0 | W10: =T10+U10-V10 -> 9.7 | X10: 1.8 | Y10: 8 | Z10: 0 | AA10: =X10+Y10-Z10 -> 9.8 | AB10: 0.2 | AC10: 7.2 | AD10: 2.5 | AE10: =AB10+AC10-AD10 -> 4.9 | AF10: =K10+O10+S10+W10+AA10+AE10 -> 40 | AJ10: =IFERROR(VLOOKUP(D10,'U13'!B:AD,29,FALSE),0) -> 38.85 | AK10: =IFERROR(VLOOKUP(D10,'U13'!B:AD,1,FALSE),"-") -> Košťál Teodor | AL10: =AF10+AJ10 -> 78.85
A11: 5 | B11: 456270 | C11: 8537 | D11: Fučík Tobias | E11: 2013 | F11: KSG Znojmo | G11: kol. | H11: 2.1 | I11: 8.4 | J11: 0 | K11: =H11+I11-J11 -> 10.5 | L11: 0 | M11: 0 | N11: 0 | O11: =L11+M11-N11 -> 0 | P11: 1.8 | Q11: 6.4 | R11: 0 | S11: =P11+Q11-R11 -> 8.2 | T11: 2.8 | U11: 9.2 | V11: 0 | W11: =T11+U11-V11 -> 12 | X11: 2.8 | Y11: 9.2 | Z11: 0 | AA11: =X11+Y11-Z11 -> 12 | AB11: 1.1 | AC11: 8.7 | AD11: 0.5 | AE11: =AB11+AC11-AD11 -> 9.3 | AF11: =K11+O11+S11+W11+AA11+AE11 -> 52 | AJ11: =IFERROR(VLOOKUP(D11,'U13'!B:AD,29,FALSE),0) -> 0 | AK11: =IFERROR(VLOOKUP(D11,'U13'!B:AD,1,FALSE),"-") -> - | AL11: =AF11+AJ11 -> 52
A12: 6 | D12: Kovář Lukáš | F12: Sokol Vsetín | H12: 1.7 | I12: 7.2 | J12: 0 | K12: =H12+I12-J12 -> 8.9 | L12: 0 | M12: 0 | N12: 0 | O12: =L12+M12-N12 -> 0 | P12: 1.4 | Q12: 7.2 | R12: 0.5 | S12: =P12+Q12-R12 -> 8.1 | T12: 1.2 | U12: 8.7 | V12: 0 | W12: =T12+U12-V12 -> 9.9 | X12: 1.2 | Y12: 7.5 | Z12: 0 | AA12: =X12+Y12-Z12 -> 8.7 | AB12: 0 | AC12: 7.4 | AD12: 3 | AE12: =AB12+AC12-AD12 -> 4.4 | AF12: =K12+O12+S12+W12+AA12+AE12 -> 40 | AJ12: =IFERROR(VLOOKUP(D12,'U13'!B:AD,29,FALSE),0) -> 0 | AK12: =IFERROR(VLOOKUP(D12,'U13'!B:AD,1,FALSE),"-") -> - | AL12: =AF12+AJ12 -> 40

Sheet 15735_U15
D1: Moravská liga 2026 CELKEM
D2: 3.10.2026
D3: U15
AF5: 2.kolo | AJ5: 1.kolo
A6: pořadí | B6: ev. č. | C6: č. oddilu | D6: jméno | E6: ročnik | F6: oddíl | G6: trenér | H6: D | I6: E | J6: pen | K6: prostná | L6: D | M6: E | N6: pen | O6: kůň | P6: D | Q6: E | R6: pen | S6: kruhy | T6: D | U6: E | V6: pen | W6: přeskok | X6: D | Y6: E | Z6: pen | AA6: bradla | AB6: D | AC6: E | AD6: pen | AE6: hrazda | AF6: celkem | AG6: pozn | AH6: přihlášeno po uzávěrce | AI6: lékařská prohlídka | AJ6: 1.kolo | AL6: Celkem
A7: 1 | B7: 655101 | C7: 7949 | D7: Pospíšil Jan | E7: 2011 | F7: KSG Moravská Slavia Brno | G7: Fried Václav | H7: 2.4 | I7: 8.8 | J7: 0.6 | K7: =H7+I7-J7 -> 10.6 | L7: 0 | M7: 0 | N7: 0 | O7: =L7+M7-N7 -> 0 | P7: 1.7 | Q7: 6.6 | R7: 0 | S7: =P7+Q7-R7 -> 8.3 | T7: 1.8 | U7: 8.75 | V7: 0 | W7: =T7+U7-V7 -> 10.55 | X7: 2.7 | Y7: 8.6 | Z7: 0 | AA7: =X7+Y7-Z7 -> 11.3 | AB7: 1.2 | AC7: 7.6 | AD7: 1.5 | AE7: =AB7+AC7-AD7 -> 7.3 | AF7: =K7+O7+S7+W7+AA7+AE7 -> 48.05 | AJ7: =IFERROR(VLOOKUP(D7,'U15'!B:AD,29,FALSE),0) -> 43.8 | AK7: =IFERROR(VLOOKUP(D7,'U15'!B:AD,1,FALSE),"-") -> Pospíšil Jan | AL7: =AF7+AJ7 -> 91.85
A8: 2 | B8: 676676 | C8: 7949 | D8: Eliášek Jakub | E8: 2011 | F8: KSG Moravská Slavia Brno | G8: Kostka a kol. | H8: 0 | I8: 0 | J8: 0 | K8: =H8+I8-J8 -> 0 | L8: 0 | M8: 0 | N8: 0 | O8: =L8+M8-N8 -> 0 | P8: 0 | Q8: 0 | R8: 0 | S8: =P8+Q8-R8 -> 0 | T8: 0 | U8: 0 | V8: 0 | W8: =T8+U8-V8 -> 0 | X8: 0 | Y8: 0 | Z8: 0 | AA8: =X8+Y8-Z8 -> 0 | AB8: 0 | AC8: 0 | AD8: 0 | AE8: =AB8+AC8-AD8 -> 0 | AF8: =K8+O8+S8+W8+AA8+AE8 -> 0 | AH8: 30.9.2026 18:38 | AJ8: =IFERROR(VLOOKUP(D8,'U15'!B:AD,29,FALSE),0) -> 42.95 | AK8: =IFERROR(VLOOKUP(D8,'U15'!B:AD,1,FALSE),"-") -> Eliášek Jakub | AL8: =AF8+AJ8 -> 42.95
A9: 3 | B9: 842154 | C9: 7949 | D9: Konečný Lukáš | E9: 2012 | F9: KSG Moravská Slavia Brno | G9: Kostka a kol. | H9: 0 | I9: 0 | J9: 0 | K9: =H9+I9-J9 -> 0 | L9: 0 | M9: 0 | N9: 0 | O9: =L9+M9-N9 -> 0 | P9: 0 | Q9: 0 | R9: 0 | S9: =P9+Q9-R9 -> 0 | T9: 0 | U9: 0 | V9: 0 | W9: =T9+U9-V9 -> 0 | X9: 0 | Y9: 0 | Z9: 0 | AA9: =X9+Y9-Z9 -> 0 | AB9: 0 | AC9: 0 | AD9: 0 | AE9: =AB9+AC9-AD9 -> 0 | AF9: =K9+O9+S9+W9+AA9+AE9 -> 0 | AH9: 30.9.2026 18:38 | AJ9: =IFERROR(VLOOKUP(D9,'U15'!B:AD,29,FALSE),0) -> 32.2 | AK9: =IFERROR(VLOOKUP(D9,'U15'!B:AD,1,FALSE),"-") -> Konečný Lukáš | AL9: =AF9+AJ9 -> 32.2
